BEGIN:VCALENDAR
VERSION:2.0
PRODID:-//KHG Bayreuth - ECPv6.15.3//NONSGML v1.0//EN
CALSCALE:GREGORIAN
METHOD:PUBLISH
X-ORIGINAL-URL:https://www.khg-in-bayreuth.de
X-WR-CALDESC:Veranstaltungen für KHG Bayreuth
REFRESH-INTERVAL;VALUE=DURATION:PT1H
X-Robots-Tag:noindex
X-PUBLISHED-TTL:PT1H
BEGIN:VTIMEZONE
TZID:Europe/Berlin
BEGIN:DAYLIGHT
TZOFFSETFROM:+0100
TZOFFSETTO:+0200
TZNAME:CEST
DTSTART:20190331T010000
END:DAYLIGHT
BEGIN:STANDARD
TZOFFSETFROM:+0200
TZOFFSETTO:+0100
TZNAME:CET
DTSTART:20191027T010000
END:STANDARD
END:VTIMEZONE
BEGIN:VEVENT
DTSTART;TZID=Europe/Berlin:20191029T181500
DTEND;TZID=Europe/Berlin:20191029T200000
DTSTAMP:20260426T051946
CREATED:20191009T114921Z
LAST-MODIFIED:20191029T122751Z
UID:10004277-1572372900-1572379200@www.khg-in-bayreuth.de
SUMMARY:Soziale Robotik in der Pflege - Entlastung oder Entmenschlichung? // Social robotics in care - relief or dehumanization?
DESCRIPTION:Vortrag  mit der Dozentin Christina Potschka vom Lehrstuhl Theologische Ethik der Uni Bamberg.\nEine Veranstaltung des “Bayreuther Forum Kirche und Universität”     \nLecture with Christina Potschka of the Theological Ethics chair of the University of Bamberg.\nAn event organized by “Bayreuth Forum Church and University”. The lecture will be in German.
URL:https://www.khg-in-bayreuth.de/event/forum-kirche-und-universitaet-soziale-robotik-in-der-pflege-entlastung-oder-entmenschlichung/
LOCATION:KHG Bayreuth\, Emil-Warburg-Weg 17\, KHG Bayreuth\, 95447\, Deutschland
END:VEVENT
BEGIN:VEVENT
DTSTART;TZID=Europe/Berlin:20191029T183000
DTEND;TZID=Europe/Berlin:20191029T200000
DTSTAMP:20260426T051946
CREATED:20190817T125756Z
LAST-MODIFIED:20191016T064532Z
UID:10004209-1572373800-1572379200@www.khg-in-bayreuth.de
SUMMARY:KHG-Barabend / KHG bar evening
DESCRIPTION:Der KHG-Barabend! Wir treffen uns jeden Dienstag ab 18.30 Uhr in der KHG\, starten mit einem spirituellen Impuls in der Kapelle (im ersten Stock) und treffen uns dann einen Stock tiefer an der Bar zu “Humpen und Häppchen”. Ab 20.00 Uhr gibt es wechselndes Programm – mal für’s Hirn\, mal für’s Herz\, mal für den Bauch und mal für die Beine … \n\nIt’s KHG bar evening! We meet every Tuesday from 6:30 pm at the KHG\, start with a spiritual moment in the chapel (upstairs) \, then have drinks and a bite to eat at the bar (downstairs). From 8 pm we’re having varying programmes – sometimes for the brain\, sometimes for the heart\, sometimes for the stomach and sometimes for the legs …
URL:https://www.khg-in-bayreuth.de/event/khg-barabend-khg-bar-evening-12/2019-10-29/
LOCATION:KHG Bayreuth\, Emil-Warburg-Weg 17\, KHG Bayreuth\, 95447\, Deutschland
END:VEVENT
BEGIN:VEVENT
DTSTART;TZID=Europe/Berlin:20191029T200000
DTEND;TZID=Europe/Berlin:20191029T213000
DTSTAMP:20260426T051946
CREATED:20191009T132755Z
LAST-MODIFIED:20191029T114931Z
UID:10004279-1572379200-1572384600@www.khg-in-bayreuth.de
SUMMARY:Gemeinsam sind wir stark - Teambuilding-Spiele // Together we are strong - team building games
DESCRIPTION:
URL:https://www.khg-in-bayreuth.de/event/gemeinsam-sind-wir-stark-teambuilding-abend-together-we-are-strong-team-building-evening/
LOCATION:Kath. Hochschulgemeinde\, Emil-Warburg-Weg 17\, Bayreuth
END:VEVENT
END:VCALENDAR