BEGIN:VCALENDAR
VERSION:2.0
PRODID:-//KHG Bayreuth - ECPv6.15.3//NONSGML v1.0//EN
CALSCALE:GREGORIAN
METHOD:PUBLISH
X-ORIGINAL-URL:https://www.khg-in-bayreuth.de
X-WR-CALDESC:Veranstaltungen für KHG Bayreuth
REFRESH-INTERVAL;VALUE=DURATION:PT1H
X-Robots-Tag:noindex
X-PUBLISHED-TTL:PT1H
BEGIN:VTIMEZONE
TZID:Europe/Berlin
BEGIN:DAYLIGHT
TZOFFSETFROM:+0100
TZOFFSETTO:+0200
TZNAME:CEST
DTSTART:20190331T010000
END:DAYLIGHT
BEGIN:STANDARD
TZOFFSETFROM:+0200
TZOFFSETTO:+0100
TZNAME:CET
DTSTART:20191027T010000
END:STANDARD
END:VTIMEZONE
BEGIN:VEVENT
DTSTART;TZID=Europe/Berlin:20191112T183000
DTEND;TZID=Europe/Berlin:20191112T200000
DTSTAMP:20260426T052027
CREATED:20190817T125756Z
LAST-MODIFIED:20191016T064532Z
UID:10004211-1573583400-1573588800@www.khg-in-bayreuth.de
SUMMARY:KHG-Barabend / KHG bar evening
DESCRIPTION:Der KHG-Barabend! Wir treffen uns jeden Dienstag ab 18.30 Uhr in der KHG\, starten mit einem spirituellen Impuls in der Kapelle (im ersten Stock) und treffen uns dann einen Stock tiefer an der Bar zu “Humpen und Häppchen”. Ab 20.00 Uhr gibt es wechselndes Programm – mal für’s Hirn\, mal für’s Herz\, mal für den Bauch und mal für die Beine … \n\nIt’s KHG bar evening! We meet every Tuesday from 6:30 pm at the KHG\, start with a spiritual moment in the chapel (upstairs) \, then have drinks and a bite to eat at the bar (downstairs). From 8 pm we’re having varying programmes – sometimes for the brain\, sometimes for the heart\, sometimes for the stomach and sometimes for the legs …
URL:https://www.khg-in-bayreuth.de/event/khg-barabend-khg-bar-evening-12/2019-11-12/
LOCATION:KHG Bayreuth\, Emil-Warburg-Weg 17\, KHG Bayreuth\, 95447\, Deutschland
END:VEVENT
BEGIN:VEVENT
DTSTART;TZID=Europe/Berlin:20191112T200000
DTEND;TZID=Europe/Berlin:20191112T213000
DTSTAMP:20260426T052027
CREATED:20191018T083056Z
LAST-MODIFIED:20191111T222716Z
UID:10004286-1573588800-1573594200@www.khg-in-bayreuth.de
SUMMARY:Reflexion & Diskussion: Extremismus in Deutschland / Reflection & Discussion: Extremism in Germany
DESCRIPTION:Extremismus (nicht nur) in Deutschland – warum man Björn Höcke einen Faschisten nennen darf\, Greta Thunberg aber für manche auch nicht besser ist … \nUnter diesem provokanten Titel wird uns Dr. Carolin Stange\, Lehrbeauftragte am Lehrstuhl für politische Theorie in Bamberg\, über Konzepte von Extremismus sowie aktuelle Erscheinungsformen in Deutschland aufklären. \nDieser Abend ist der erste in unserer neuen Reihe “Reflexion und Diskussion”\, in der wir uns aktuellen politischen Themen widmen. Wie der Name schon sagt: Nachdenken und (auch kontroverse) Diskussion sind sehr erwünscht! \n\nDiscussion with Carolin Stange\, Lecturer at the chair of politcal theory\, Bamberg (in German language)
URL:https://www.khg-in-bayreuth.de/event/reflexion-%c2%a7-diskussion-extremismus-in-deutschland/
LOCATION:KHG Bayreuth\, Emil-Warburg-Weg 17\, KHG Bayreuth\, 95447\, Deutschland
END:VEVENT
END:VCALENDAR