BEGIN:VCALENDAR
VERSION:2.0
PRODID:-//KHG Bayreuth - ECPv6.15.3//NONSGML v1.0//EN
CALSCALE:GREGORIAN
METHOD:PUBLISH
X-WR-CALNAME:KHG Bayreuth
X-ORIGINAL-URL:https://www.khg-in-bayreuth.de
X-WR-CALDESC:Veranstaltungen für KHG Bayreuth
REFRESH-INTERVAL;VALUE=DURATION:PT1H
X-Robots-Tag:noindex
X-PUBLISHED-TTL:PT1H
BEGIN:VTIMEZONE
TZID:Europe/Berlin
BEGIN:DAYLIGHT
TZOFFSETFROM:+0100
TZOFFSETTO:+0200
TZNAME:CEST
DTSTART:20190331T010000
END:DAYLIGHT
BEGIN:STANDARD
TZOFFSETFROM:+0200
TZOFFSETTO:+0100
TZNAME:CET
DTSTART:20191027T010000
END:STANDARD
END:VTIMEZONE
BEGIN:VEVENT
DTSTART;TZID=Europe/Berlin:20191206T070000
DTEND;TZID=Europe/Berlin:20191206T080000
DTSTAMP:20260426T051717
CREATED:20190817T122154Z
LAST-MODIFIED:20191025T073923Z
UID:10004145-1575615600-1575619200@www.khg-in-bayreuth.de
SUMMARY:Frühschicht // Morning prayer
DESCRIPTION:Freitagsmorgens treffen wir uns während der Vorlesungszeit um 07:00 Uhr zu einer kurzen Morgenandacht mit anschließendem Frühstück (Unkostenbeitrag: 1€). Die erste Frühschicht findet am 18.10.19\, die letzte am 07.02.20 statt. \n\nEvery friday morning we meet for a short morning prayer. Afterwards we have breakfast together (1 € ) . The first morning prayer is on October 18\, 2019\, the last one on February 07\, 2020.
URL:https://www.khg-in-bayreuth.de/event/fruehschicht-morning-prayer/2019-12-06/
LOCATION:KHG Bayreuth\, Emil-Warburg-Weg 17\, KHG Bayreuth\, 95447\, Deutschland
END:VEVENT
BEGIN:VEVENT
DTSTART;TZID=Europe/Berlin:20191206T083000
DTEND;TZID=Europe/Berlin:20191206T100000
DTSTAMP:20260426T051717
CREATED:20191017T221225Z
LAST-MODIFIED:20191223T022233Z
UID:10004283-1575621000-1575626400@www.khg-in-bayreuth.de
SUMMARY:Theologischer Gesprächskreis // Theological discussion group
DESCRIPTION:Wir treffen uns alle zwei Wochen am Freitagmorgen\, um kurze theologische Texte zu lesen und zu diskutieren. In diesem Semester lesen wir Texte der östlichen Kirchenväter. \nWer Interesse hat\, die Texte vorher zugeschickt zu bekommen\, schreibe bitte eine Mail an unsere Pastoralreferentin Barbara Göb: barbara.goeb@erzbistum-bamberg.de \n________ \nWe meet every second Friday morning to read a short theological text and discuss it. This semester\, we’re going to read texts from the eastern church fathers. \nIf you’d like to get the texts sent to you beforehand\, please write an e-mail to our chaplain Barbara Göb: barbara.goeb@erzbistum-bamberg.de
URL:https://www.khg-in-bayreuth.de/event/theologischer-gespraechskreis-theological-discussion-group-2/2019-12-06/
LOCATION:KHG Bayreuth\, Emil-Warburg-Weg 17\, KHG Bayreuth\, 95447\, Deutschland
END:VEVENT
BEGIN:VEVENT
DTSTART;TZID=Europe/Berlin:20191206T190000
DTEND;TZID=Europe/Berlin:20191206T210000
DTSTAMP:20260426T051717
CREATED:20190817T135445Z
LAST-MODIFIED:20190817T135445Z
UID:10004263-1575658800-1575666000@www.khg-in-bayreuth.de
SUMMARY:Internationaler Nikolausabend – International St. Nicholas Festival
DESCRIPTION:Weihnachten steht vor der Tür! Zum Auftakt der besinnlichen Zeit wollen wir gemeinsam mit euch den Nikolausabend feiern. \nDazu treffen wir uns am Freitag\, den 6. Dezember um 19:00 Uhr in der KHG. Es wird typisch deutsches Weihnachtsgebäck und Glühwein geben\, dabei werden wir uns mit dem Thema Weihnachten beschäftigen. Außerdem werden wir auch noch ein großes Wichteln (Erklärung siehe unten) veranstalten. Toll wäre\, wenn ihr etwas typisches aus eurem Heimatland mitbringen würdet\, beispielsweise Weihnachtsplätzchen. \nDer Eintritt zu diesem Event ist frei! \nWir freuen uns auf einen geselligen und besinnlichen Abend mit euch!\nEure KHG und Euer ISN Bayreuth -Team \n\n“Wichteln” ist eine in vielen Ländern bekannte\, in Deutschland jedoch besonders beliebte Weihnachtstradition. Dabei werden Geschenke verteilt – aber Achtung\, die Verteilung erfolgt anonym und zufällig! Ablauf: Jeder der teilnehmen möchte\, bringt ein kleines Geschenk mit. Der Preis dieses Geschenkes sollte sich auf ca. 5 € belaufen. Bitte bringt das Geschenk verpackt mit. Wenn ihr in die KHG kommt\, gebt ihr Euer Geschenk ab\, das daraufhin in einem großen Geschenkesack verschwindet\, und bekommt dafür eine Nummer. Während der Nikolaus-Party wird es kurze Pausen geben\, in denen eure Nummern aufgerufen werden. Wenn ihr Eure Nummer hört\, dürft ihr euer Geschenk abholen. \nDer Eintritt zu diesem Event ist frei! \nWir freuen uns auf einen geselligen und besinnlichen Abend mit euch!\nEure KHG und Euer ISN Bayreuth -Team \n  \n\nWinter has begun and Christmas is just around the corner. Therefore\, we want to celebrate the St Nicholas Festival with you! \nThe event will be Friday\, 6th December\, 7 p.m. at the KHG. ISN will provide some traditional German Christmas cookies and typical “Glühwein” (mulled wine). Moreover\, we will introduce you the Christmas tradition in Germany and organize the German Christmas practice: “Wichteln” (Secret Santa – see below). It’ll be great if you bring something traditional for Christmas from your home country as well\, maybe some christmas cookies as well. \nEntry is free! \nWe are looking forward to a great event with you!\nYour KHG and ISN Bayreuth Team \n“Wichteln“ (eng.: Secret Santa) is a German christmas tradition. Some of you may know it because it’s not only a German tradition. Presents are anonymously and randomly assigned to people in a group. Procedure: Everyone who likes to participate buys a small present. The value of that present shall be approximately 5 €. The present shall be wrapped in gift paper or else. When you arrive at the KHG you will hand your present in a big gift bag along with the other presents. Also you will pick a number. Throughout the whole Nikolaus-party there we will be short breaks in which the presents will be drawn by the numbers you picked at the beginning. \n 
URL:https://www.khg-in-bayreuth.de/event/internationaler-nikolausabend-international-st-nicholas-festival-2/
LOCATION:KHG Bayreuth\, Emil-Warburg-Weg 17\, KHG Bayreuth\, 95447\, Deutschland
END:VEVENT
END:VCALENDAR