BEGIN:VCALENDAR
VERSION:2.0
PRODID:-//KHG Bayreuth - ECPv6.15.3//NONSGML v1.0//EN
CALSCALE:GREGORIAN
METHOD:PUBLISH
X-ORIGINAL-URL:https://www.khg-in-bayreuth.de
X-WR-CALDESC:Veranstaltungen für KHG Bayreuth
REFRESH-INTERVAL;VALUE=DURATION:PT1H
X-Robots-Tag:noindex
X-PUBLISHED-TTL:PT1H
BEGIN:VTIMEZONE
TZID:Europe/Berlin
BEGIN:DAYLIGHT
TZOFFSETFROM:+0100
TZOFFSETTO:+0200
TZNAME:CEST
DTSTART:20190331T010000
END:DAYLIGHT
BEGIN:STANDARD
TZOFFSETFROM:+0200
TZOFFSETTO:+0100
TZNAME:CET
DTSTART:20191027T010000
END:STANDARD
END:VTIMEZONE
BEGIN:VEVENT
DTSTART;TZID=Europe/Berlin:20191220T070000
DTEND;TZID=Europe/Berlin:20191220T080000
DTSTAMP:20260426T052009
CREATED:20190817T122154Z
LAST-MODIFIED:20191025T073923Z
UID:10004147-1576825200-1576828800@www.khg-in-bayreuth.de
SUMMARY:Frühschicht // Morning prayer
DESCRIPTION:Freitagsmorgens treffen wir uns während der Vorlesungszeit um 07:00 Uhr zu einer kurzen Morgenandacht mit anschließendem Frühstück (Unkostenbeitrag: 1€). Die erste Frühschicht findet am 18.10.19\, die letzte am 07.02.20 statt. \n\nEvery friday morning we meet for a short morning prayer. Afterwards we have breakfast together (1 € ) . The first morning prayer is on October 18\, 2019\, the last one on February 07\, 2020.
URL:https://www.khg-in-bayreuth.de/event/fruehschicht-morning-prayer/2019-12-20/
LOCATION:KHG Bayreuth\, Emil-Warburg-Weg 17\, KHG Bayreuth\, 95447\, Deutschland
END:VEVENT
END:VCALENDAR