BEGIN:VCALENDAR
VERSION:2.0
PRODID:-//KHG Bayreuth - ECPv6.15.3//NONSGML v1.0//EN
CALSCALE:GREGORIAN
METHOD:PUBLISH
X-WR-CALNAME:KHG Bayreuth
X-ORIGINAL-URL:https://www.khg-in-bayreuth.de
X-WR-CALDESC:Veranstaltungen für KHG Bayreuth
REFRESH-INTERVAL;VALUE=DURATION:PT1H
X-Robots-Tag:noindex
X-PUBLISHED-TTL:PT1H
BEGIN:VTIMEZONE
TZID:Europe/Berlin
BEGIN:DAYLIGHT
TZOFFSETFROM:+0100
TZOFFSETTO:+0200
TZNAME:CEST
DTSTART:20200329T010000
END:DAYLIGHT
BEGIN:STANDARD
TZOFFSETFROM:+0200
TZOFFSETTO:+0100
TZNAME:CET
DTSTART:20201025T010000
END:STANDARD
END:VTIMEZONE
BEGIN:VTIMEZONE
TZID:UTC
BEGIN:STANDARD
TZOFFSETFROM:+0000
TZOFFSETTO:+0000
TZNAME:UTC
DTSTART:20200101T000000
END:STANDARD
END:VTIMEZONE
BEGIN:VEVENT
DTSTART;TZID=Europe/Berlin:20200110T070000
DTEND;TZID=Europe/Berlin:20200110T080000
DTSTAMP:20260426T040214
CREATED:20190817T122154Z
LAST-MODIFIED:20191025T073923Z
UID:10004148-1578639600-1578643200@www.khg-in-bayreuth.de
SUMMARY:Frühschicht // Morning prayer
DESCRIPTION:Freitagsmorgens treffen wir uns während der Vorlesungszeit um 07:00 Uhr zu einer kurzen Morgenandacht mit anschließendem Frühstück (Unkostenbeitrag: 1€). Die erste Frühschicht findet am 18.10.19\, die letzte am 07.02.20 statt. \n\nEvery friday morning we meet for a short morning prayer. Afterwards we have breakfast together (1 € ) . The first morning prayer is on October 18\, 2019\, the last one on February 07\, 2020.
URL:https://www.khg-in-bayreuth.de/event/fruehschicht-morning-prayer/2020-01-10/
LOCATION:KHG Bayreuth\, Emil-Warburg-Weg 17\, KHG Bayreuth\, 95447\, Deutschland
END:VEVENT
BEGIN:VEVENT
DTSTART;TZID=UTC:20200110T160000
DTEND;TZID=UTC:20200112T140000
DTSTAMP:20260426T040214
CREATED:20180721T054613Z
LAST-MODIFIED:20191124T040704Z
UID:10003679-1578672000-1578837600@www.khg-in-bayreuth.de
SUMMARY:Ökumenisches Auszeitwochenende // Ecumenical retreat weekend
DESCRIPTION:– English version below – \nGemeinsam mit der ESG verbringen wir ein geselliges\, spirituelles und fröhliches Wochenende in der Fränkischen Schweiz. Wir kochen gemeinsam\, wandern\, machen Musik\, spielen Gesellschaftsspiele\, feiern Gottesdienst\, diskutieren über Gott und die Welt und lernen uns besser kennen – und was Euch sonst noch einfällt! \nKosten: 15\,- Euro\nMitbringen: Schlafsack\, Kissenbezug\, Spannbetttuch oder Bettlaken; Handtuch und Geschirrtuch; warme\, winterfeste Kleidung und ebensolche Wanderschuhe; Hausschuhe; wenn vorhanden: Musikinstrumente\, Spiele\, Lieder\, Gedichte und Geschichten …\nAnmeldung: nach Möglichkeit bis 15. Dezember ans KHG-Büro (Raphaela Seybold): <khg@uni-bayreuth.de> \n– English version – \nTogether with the ESG\, we’ll spend a convivial\, spiritual and merry weekend in Franconian Switzerland. We’ll cook together\, go hiking\,  play games\, make music\, worship\, get to know each other better\, have discussions about life\, the universe and everything – and whatever else comes to your mind! \nFee: 15\,- Euro \nBring along: sleeping bag\, pillowcase\, bed sheet; towel and tea towel; warm\, winterproof clothing and hiking boots; slippers; if available: musical instruments\, games\, songs\, poems and storybooks … \nRegistration: if possible\, by 15th of December to the KHG office (Raphaela Seybold): <khg@uni-bayreuth.de>
URL:https://www.khg-in-bayreuth.de/event/gemeindewochenende-von-esg-und-khg-in-hochstahl-retreat-weekend-of-esg-and-khg-in-hochstahl/
LOCATION:Christophorus-Haus in Hochstahl
END:VEVENT
BEGIN:VEVENT
DTSTART;TZID=Europe/Berlin:20200110T183000
DTEND;TZID=Europe/Berlin:20200110T210000
DTSTAMP:20260426T040214
CREATED:20190817T131551Z
LAST-MODIFIED:20191017T221334Z
UID:10004249-1578681000-1578690000@www.khg-in-bayreuth.de
SUMMARY:Deutsch-Chinesischer Stammtisch // German-Chinese regulars’ table
DESCRIPTION:Herzliche Einladung zum Deutsch-Chinesischen Stammtisch! \nHier habt ihr die Möglichkeit euch gegenseitig auszutauschen\, gegenseitig etwas über die chinesische bzw. deutsche Sprache und Kultur zu erfahren. Es sind keine Chinesisch-Kenntnisse erforderlich  \n\n朋友们，欢迎来到新学期！让我们来中文角聊天吧！活动地点是舒适的KHG，所有对中文或中国感兴趣的人都欢迎，参与我们的活动不需要钱或任何条件，只要你有兴趣参加，来体验中国和德国的语言及文化吧！ \n欢迎！
URL:https://www.khg-in-bayreuth.de/event/deutsch-chinesischer-stammtisch-german-chinese-regulars-table-4-2019-11-08/2020-01-10/
LOCATION:KHG Bayreuth\, Emil-Warburg-Weg 17\, KHG Bayreuth\, 95447\, Deutschland
END:VEVENT
END:VCALENDAR