BEGIN:VCALENDAR
VERSION:2.0
PRODID:-//KHG Bayreuth - ECPv6.15.3//NONSGML v1.0//EN
CALSCALE:GREGORIAN
METHOD:PUBLISH
X-ORIGINAL-URL:https://www.khg-in-bayreuth.de
X-WR-CALDESC:Veranstaltungen für KHG Bayreuth
REFRESH-INTERVAL;VALUE=DURATION:PT1H
X-Robots-Tag:noindex
X-PUBLISHED-TTL:PT1H
BEGIN:VTIMEZONE
TZID:UTC
BEGIN:STANDARD
TZOFFSETFROM:+0000
TZOFFSETTO:+0000
TZNAME:UTC
DTSTART:20200101T000000
END:STANDARD
END:VTIMEZONE
BEGIN:VTIMEZONE
TZID:Europe/Berlin
BEGIN:DAYLIGHT
TZOFFSETFROM:+0100
TZOFFSETTO:+0200
TZNAME:CEST
DTSTART:20200329T010000
END:DAYLIGHT
BEGIN:STANDARD
TZOFFSETFROM:+0200
TZOFFSETTO:+0100
TZNAME:CET
DTSTART:20201025T010000
END:STANDARD
END:VTIMEZONE
BEGIN:VEVENT
DTSTART;TZID=UTC:20200110T160000
DTEND;TZID=UTC:20200112T140000
DTSTAMP:20260426T024843
CREATED:20180721T054613Z
LAST-MODIFIED:20191124T040704Z
UID:10003679-1578672000-1578837600@www.khg-in-bayreuth.de
SUMMARY:Ökumenisches Auszeitwochenende // Ecumenical retreat weekend
DESCRIPTION:– English version below – \nGemeinsam mit der ESG verbringen wir ein geselliges\, spirituelles und fröhliches Wochenende in der Fränkischen Schweiz. Wir kochen gemeinsam\, wandern\, machen Musik\, spielen Gesellschaftsspiele\, feiern Gottesdienst\, diskutieren über Gott und die Welt und lernen uns besser kennen – und was Euch sonst noch einfällt! \nKosten: 15\,- Euro\nMitbringen: Schlafsack\, Kissenbezug\, Spannbetttuch oder Bettlaken; Handtuch und Geschirrtuch; warme\, winterfeste Kleidung und ebensolche Wanderschuhe; Hausschuhe; wenn vorhanden: Musikinstrumente\, Spiele\, Lieder\, Gedichte und Geschichten …\nAnmeldung: nach Möglichkeit bis 15. Dezember ans KHG-Büro (Raphaela Seybold): <khg@uni-bayreuth.de> \n– English version – \nTogether with the ESG\, we’ll spend a convivial\, spiritual and merry weekend in Franconian Switzerland. We’ll cook together\, go hiking\,  play games\, make music\, worship\, get to know each other better\, have discussions about life\, the universe and everything – and whatever else comes to your mind! \nFee: 15\,- Euro \nBring along: sleeping bag\, pillowcase\, bed sheet; towel and tea towel; warm\, winterproof clothing and hiking boots; slippers; if available: musical instruments\, games\, songs\, poems and storybooks … \nRegistration: if possible\, by 15th of December to the KHG office (Raphaela Seybold): <khg@uni-bayreuth.de>
URL:https://www.khg-in-bayreuth.de/event/gemeindewochenende-von-esg-und-khg-in-hochstahl-retreat-weekend-of-esg-and-khg-in-hochstahl/
LOCATION:Christophorus-Haus in Hochstahl
END:VEVENT
BEGIN:VEVENT
DTSTART;TZID=Europe/Berlin:20200112T190000
DTEND;TZID=Europe/Berlin:20200112T200000
DTSTAMP:20260426T024843
CREATED:20191025T085845Z
LAST-MODIFIED:20191025T085845Z
UID:10004290-1578855600-1578859200@www.khg-in-bayreuth.de
SUMMARY:English Mass
DESCRIPTION:Am Sonntag\, den 17.11.19 und 12.01.20\, findet jeweils um 19:00 Uhr eine “Mass in English” (Eucharistiefeier in englischer Sprache) statt. Der Gottesdienstablauf mit allen Gebeten in englischer Sprache und ein Liedzettel mit englischen Gesängen liegen aus. \n\nOn Sunday\, 17.11.19 and 12.01.20\, we celebrate English Mass at 7 pm (Holy Mass in English language).  A service list with all prayers and sheets with English chants are available.
URL:https://www.khg-in-bayreuth.de/event/english-mass-2/2020-01-12/
LOCATION:KHG Bayreuth\, Emil-Warburg-Weg 17\, KHG Bayreuth\, 95447\, Deutschland
END:VEVENT
END:VCALENDAR