BEGIN:VCALENDAR
VERSION:2.0
PRODID:-//KHG Bayreuth - ECPv6.15.3//NONSGML v1.0//EN
CALSCALE:GREGORIAN
METHOD:PUBLISH
X-WR-CALNAME:KHG Bayreuth
X-ORIGINAL-URL:https://www.khg-in-bayreuth.de
X-WR-CALDESC:Veranstaltungen für KHG Bayreuth
REFRESH-INTERVAL;VALUE=DURATION:PT1H
X-Robots-Tag:noindex
X-PUBLISHED-TTL:PT1H
BEGIN:VTIMEZONE
TZID:Europe/Berlin
BEGIN:DAYLIGHT
TZOFFSETFROM:+0100
TZOFFSETTO:+0200
TZNAME:CEST
DTSTART:20200329T010000
END:DAYLIGHT
BEGIN:STANDARD
TZOFFSETFROM:+0200
TZOFFSETTO:+0100
TZNAME:CET
DTSTART:20201025T010000
END:STANDARD
END:VTIMEZONE
BEGIN:VEVENT
DTSTART;TZID=Europe/Berlin:20200117T070000
DTEND;TZID=Europe/Berlin:20200117T080000
DTSTAMP:20260426T040204
CREATED:20190817T122154Z
LAST-MODIFIED:20191025T073923Z
UID:10004149-1579244400-1579248000@www.khg-in-bayreuth.de
SUMMARY:Frühschicht // Morning prayer
DESCRIPTION:Freitagsmorgens treffen wir uns während der Vorlesungszeit um 07:00 Uhr zu einer kurzen Morgenandacht mit anschließendem Frühstück (Unkostenbeitrag: 1€). Die erste Frühschicht findet am 18.10.19\, die letzte am 07.02.20 statt. \n\nEvery friday morning we meet for a short morning prayer. Afterwards we have breakfast together (1 € ) . The first morning prayer is on October 18\, 2019\, the last one on February 07\, 2020.
URL:https://www.khg-in-bayreuth.de/event/fruehschicht-morning-prayer/2020-01-17/
LOCATION:KHG Bayreuth\, Emil-Warburg-Weg 17\, KHG Bayreuth\, 95447\, Deutschland
END:VEVENT
BEGIN:VEVENT
DTSTART;TZID=Europe/Berlin:20200117T083000
DTEND;TZID=Europe/Berlin:20200117T100000
DTSTAMP:20260426T040204
CREATED:20191017T221225Z
LAST-MODIFIED:20191223T022233Z
UID:10004284-1579249800-1579255200@www.khg-in-bayreuth.de
SUMMARY:Theologischer Gesprächskreis // Theological discussion group
DESCRIPTION:Wir treffen uns alle zwei Wochen am Freitagmorgen\, um kurze theologische Texte zu lesen und zu diskutieren. In diesem Semester lesen wir Texte der östlichen Kirchenväter. \nWer Interesse hat\, die Texte vorher zugeschickt zu bekommen\, schreibe bitte eine Mail an unsere Pastoralreferentin Barbara Göb: barbara.goeb@erzbistum-bamberg.de \n________ \nWe meet every second Friday morning to read a short theological text and discuss it. This semester\, we’re going to read texts from the eastern church fathers. \nIf you’d like to get the texts sent to you beforehand\, please write an e-mail to our chaplain Barbara Göb: barbara.goeb@erzbistum-bamberg.de
URL:https://www.khg-in-bayreuth.de/event/theologischer-gespraechskreis-theological-discussion-group-2/2020-01-17/
LOCATION:KHG Bayreuth\, Emil-Warburg-Weg 17\, KHG Bayreuth\, 95447\, Deutschland
END:VEVENT
BEGIN:VEVENT
DTSTART;TZID=Europe/Berlin:20200117T183000
DTEND;TZID=Europe/Berlin:20200117T210000
DTSTAMP:20260426T040204
CREATED:20190817T131551Z
LAST-MODIFIED:20191223T004948Z
UID:10004252-1579285800-1579294800@www.khg-in-bayreuth.de
SUMMARY:Deutsch-Chinesischer Stammtisch // German-Chinese regulars’ table
DESCRIPTION:Herzliche Einladung zum Deutsch-Chinesischen Stammtisch! \nHier habt ihr die Möglichkeit euch gegenseitig auszutauschen\, gegenseitig etwas über die chinesische bzw. deutsche Sprache und Kultur zu erfahren. Es sind keine Chinesisch-Kenntnisse erforderlich \nThema des Abends: Chinesisch kochen. Wir formen gemeinsam Teigklößchen\, kochen und essen sie. \n\n朋友们，欢迎来到新学期！让我们来中文角聊天吧！活动地点是舒适的KHG，所有对中文或中国感兴趣的人都欢迎，参与我们的活动不需要钱或任何条件，只要你有兴趣参加，来体验中国和德国的语言及文化吧！ \n欢迎！ \nTopic of the evening: Chinese cooking – we’re going to make DIY dumplings\, cook and eat them.
URL:https://www.khg-in-bayreuth.de/event/deutsch-chinesischer-stammtisch-german-chinese-regulars-table-4-2020-01-10/
LOCATION:KHG Bayreuth\, Emil-Warburg-Weg 17\, KHG Bayreuth\, 95447\, Deutschland
END:VEVENT
END:VCALENDAR