BEGIN:VCALENDAR
VERSION:2.0
PRODID:-//KHG Bayreuth - ECPv6.15.3//NONSGML v1.0//EN
CALSCALE:GREGORIAN
METHOD:PUBLISH
X-WR-CALNAME:KHG Bayreuth
X-ORIGINAL-URL:https://www.khg-in-bayreuth.de
X-WR-CALDESC:Veranstaltungen für KHG Bayreuth
REFRESH-INTERVAL;VALUE=DURATION:PT1H
X-Robots-Tag:noindex
X-PUBLISHED-TTL:PT1H
BEGIN:VTIMEZONE
TZID:Europe/Berlin
BEGIN:DAYLIGHT
TZOFFSETFROM:+0100
TZOFFSETTO:+0200
TZNAME:CEST
DTSTART:20200329T010000
END:DAYLIGHT
BEGIN:STANDARD
TZOFFSETFROM:+0200
TZOFFSETTO:+0100
TZNAME:CET
DTSTART:20201025T010000
END:STANDARD
END:VTIMEZONE
BEGIN:VEVENT
DTSTART;TZID=Europe/Berlin:20200119T170000
DTEND;TZID=Europe/Berlin:20200119T180000
DTSTAMP:20260426T024730
CREATED:20191223T023040Z
LAST-MODIFIED:20191223T023040Z
UID:10004305-1579453200-1579456800@www.khg-in-bayreuth.de
SUMMARY:Ökumenischer Gottesdienst für die Einheit der Christen // Ecumenical worship for Christian Unity
DESCRIPTION:In St. Hedwig nehmen wir am Bayreuth-weiten ökumenischen Gottesdienst für die Einheit der Christen teil. Die Sonntagabendmesse entfällt. \nAt St. Hedwig\, we join in the celebration of the Bayreuth-wide service for Christian Unity. There’ll be no mass this Sunday evening.
URL:https://www.khg-in-bayreuth.de/event/oekumenischer-gottesdienst-fuer-die-einheit-der-christen-ecumenical-worship-for-christian-unity/
LOCATION:St. Hedwig\, Bayreuth
END:VEVENT
END:VCALENDAR