BEGIN:VCALENDAR
VERSION:2.0
PRODID:-//KHG Bayreuth - ECPv6.15.3//NONSGML v1.0//EN
CALSCALE:GREGORIAN
METHOD:PUBLISH
X-WR-CALNAME:KHG Bayreuth
X-ORIGINAL-URL:https://www.khg-in-bayreuth.de
X-WR-CALDESC:Veranstaltungen für KHG Bayreuth
REFRESH-INTERVAL;VALUE=DURATION:PT1H
X-Robots-Tag:noindex
X-PUBLISHED-TTL:PT1H
BEGIN:VTIMEZONE
TZID:Europe/Berlin
BEGIN:DAYLIGHT
TZOFFSETFROM:+0100
TZOFFSETTO:+0200
TZNAME:CEST
DTSTART:20200329T010000
END:DAYLIGHT
BEGIN:STANDARD
TZOFFSETFROM:+0200
TZOFFSETTO:+0100
TZNAME:CET
DTSTART:20201025T010000
END:STANDARD
END:VTIMEZONE
BEGIN:VEVENT
DTSTART;TZID=Europe/Berlin:20200122T120500
DTEND;TZID=Europe/Berlin:20200122T123000
DTSTAMP:20260426T040418
CREATED:20200121T011820Z
LAST-MODIFIED:20200121T011820Z
UID:10004310-1579694700-1579696200@www.khg-in-bayreuth.de
SUMMARY:Mittwochsgebet // Midweek prayer
DESCRIPTION:Mitten in der Woche nehmen wir uns eine halbe Stunde Zeit für uns – mit Gedanken\, Liedern und Gebeten … \nIn the middle of the week\, we reserve half an hour for ourselves – with thoughts\, songs and prayers …
URL:https://www.khg-in-bayreuth.de/event/mittwochsgebet-midweek-prayer/2020-01-22/
LOCATION:KHG Bayreuth\, Emil-Warburg-Weg 17\, KHG Bayreuth\, 95447\, Deutschland
END:VEVENT
BEGIN:VEVENT
DTSTART;TZID=Europe/Berlin:20200122T123000
DTEND;TZID=Europe/Berlin:20200122T130000
DTSTAMP:20260426T040418
CREATED:20190817T130152Z
LAST-MODIFIED:20190817T130152Z
UID:10004239-1579696200-1579698000@www.khg-in-bayreuth.de
SUMMARY:Mittagssuppe für Alle / Soup sharing
DESCRIPTION:Mitten in der Woche treffen wir uns\, um gemeinsam (vegetarische) Suppe zu löffeln. Die perfekte Gelegenheit\, eine kurze Pause vom Uni-Alltag zu nehmen\, nette Leute kennenzulernen und sich “wie zuhause” am Mittagstisch zu versammeln.\nDie Suppe gibt es gegen 12.30 Uhr im Untergeschoss. Wer mag\, ist vorher noch zu einem kurzen Mittagsimpuls in der Kapelle eingeladen.\nFalls jemand Zeit und Lust hat\, beim Kochen zu helfen: ab ca. 11.00 Uhr wird in der KHG-Küche geschnippelt! \n\nIn the middle of the week\, we meet to have (vegetarian) soup together. The perfect occasion to have a short break from everyday university life\, meet great people and feel at home\, gathering around the table!\nSoup is served around 12.30 pm in the basement. Those who feel like it\, are invited previously to a spiritual moment at 12.05 pm in the chapel.\nAnd whoever enjoys to help with the cooking: we start in the kitchen at around 11 am.
URL:https://www.khg-in-bayreuth.de/event/mittagssuppe-fuer-alle-soup-sharing-16/2020-01-22/
LOCATION:KHG Bayreuth\, Emil-Warburg-Weg 17\, KHG Bayreuth\, 95447\, Deutschland
END:VEVENT
BEGIN:VEVENT
DTSTART;TZID=Europe/Berlin:20200122T194500
DTEND;TZID=Europe/Berlin:20200122T213000
DTSTAMP:20260426T040418
CREATED:20190817T123528Z
LAST-MODIFIED:20190817T123528Z
UID:10004189-1579722300-1579728600@www.khg-in-bayreuth.de
SUMMARY:Gospelchor Probe / Gospel Choir rehearsal
DESCRIPTION:
URL:https://www.khg-in-bayreuth.de/event/gospelchor-probe-gospel-choir-rehearsal-2/2020-01-22/
LOCATION:KHG Bayreuth\, Emil-Warburg-Weg 17\, KHG Bayreuth\, 95447\, Deutschland
END:VEVENT
END:VCALENDAR