BEGIN:VCALENDAR
VERSION:2.0
PRODID:-//KHG Bayreuth - ECPv6.15.3//NONSGML v1.0//EN
CALSCALE:GREGORIAN
METHOD:PUBLISH
X-ORIGINAL-URL:https://www.khg-in-bayreuth.de
X-WR-CALDESC:Veranstaltungen für KHG Bayreuth
REFRESH-INTERVAL;VALUE=DURATION:PT1H
X-Robots-Tag:noindex
X-PUBLISHED-TTL:PT1H
BEGIN:VTIMEZONE
TZID:Europe/Berlin
BEGIN:DAYLIGHT
TZOFFSETFROM:+0100
TZOFFSETTO:+0200
TZNAME:CEST
DTSTART:20200329T010000
END:DAYLIGHT
BEGIN:STANDARD
TZOFFSETFROM:+0200
TZOFFSETTO:+0100
TZNAME:CET
DTSTART:20201025T010000
END:STANDARD
END:VTIMEZONE
BEGIN:VEVENT
DTSTART;TZID=Europe/Berlin:20200128T180000
DTEND;TZID=Europe/Berlin:20200128T210000
DTSTAMP:20260426T011327
CREATED:20190817T140024Z
LAST-MODIFIED:20190817T140045Z
UID:10004267-1580234400-1580245200@www.khg-in-bayreuth.de
SUMMARY:KHG-Planungsnacht
DESCRIPTION:Wir planen das Sommersemester 2020! \nAlle\, die unser Programm mitgestalten möchten\, sind herzlich willkommen. \n\nWe’re going to plan the summer semester 2020! \nAll who’d like to help shaping the programme are welcome.
URL:https://www.khg-in-bayreuth.de/event/khg-planungsnacht-2/
LOCATION:KHG Bayreuth\, Emil-Warburg-Weg 17\, KHG Bayreuth\, 95447\, Deutschland
END:VEVENT
BEGIN:VEVENT
DTSTART;TZID=Europe/Berlin:20200128T183000
DTEND;TZID=Europe/Berlin:20200128T200000
DTSTAMP:20260426T011327
CREATED:20190817T125756Z
LAST-MODIFIED:20191016T064532Z
UID:10004222-1580236200-1580241600@www.khg-in-bayreuth.de
SUMMARY:KHG-Barabend / KHG bar evening
DESCRIPTION:Der KHG-Barabend! Wir treffen uns jeden Dienstag ab 18.30 Uhr in der KHG\, starten mit einem spirituellen Impuls in der Kapelle (im ersten Stock) und treffen uns dann einen Stock tiefer an der Bar zu “Humpen und Häppchen”. Ab 20.00 Uhr gibt es wechselndes Programm – mal für’s Hirn\, mal für’s Herz\, mal für den Bauch und mal für die Beine … \n\nIt’s KHG bar evening! We meet every Tuesday from 6:30 pm at the KHG\, start with a spiritual moment in the chapel (upstairs) \, then have drinks and a bite to eat at the bar (downstairs). From 8 pm we’re having varying programmes – sometimes for the brain\, sometimes for the heart\, sometimes for the stomach and sometimes for the legs …
URL:https://www.khg-in-bayreuth.de/event/khg-barabend-khg-bar-evening-12/2020-01-28/
LOCATION:KHG Bayreuth\, Emil-Warburg-Weg 17\, KHG Bayreuth\, 95447\, Deutschland
END:VEVENT
END:VCALENDAR