BEGIN:VCALENDAR
VERSION:2.0
PRODID:-//KHG Bayreuth - ECPv6.15.3//NONSGML v1.0//EN
CALSCALE:GREGORIAN
METHOD:PUBLISH
X-WR-CALNAME:KHG Bayreuth
X-ORIGINAL-URL:https://www.khg-in-bayreuth.de
X-WR-CALDESC:Veranstaltungen für KHG Bayreuth
REFRESH-INTERVAL;VALUE=DURATION:PT1H
X-Robots-Tag:noindex
X-PUBLISHED-TTL:PT1H
BEGIN:VTIMEZONE
TZID:Europe/Berlin
BEGIN:DAYLIGHT
TZOFFSETFROM:+0100
TZOFFSETTO:+0200
TZNAME:CEST
DTSTART:20200329T010000
END:DAYLIGHT
BEGIN:STANDARD
TZOFFSETFROM:+0200
TZOFFSETTO:+0100
TZNAME:CET
DTSTART:20201025T010000
END:STANDARD
END:VTIMEZONE
BEGIN:VEVENT
DTSTART;TZID=Europe/Berlin:20200310T180000
DTEND;TZID=Europe/Berlin:20200310T200000
DTSTAMP:20260425T234853
CREATED:20200210T190404Z
LAST-MODIFIED:20200210T192638Z
UID:10004314-1583863200-1583870400@www.khg-in-bayreuth.de
SUMMARY:Ökumenische Alltagsexerzitien für junge Menschen // Ecumenical retreat in everyday life
DESCRIPTION:Hast Du Lust\, die Fastenzeit diesmal ganz bewusst zu erleben und spirituell “aufzutanken”? Dann sei herzlich willkommen bei unseren “Ökumenischen Exerzitien im Alltag”!\nWir treffen uns jeden Dienstag in der Fastenzeit zu einem spirituellen Impuls und zum Austausch. Anschließend wird gemeinsam gekocht. Für die Tage zwischen den Treffen bekommst Du Postkarten mit Anregungen\, die Dir helfen können\, einen täglichen “Moment der Stille” zu gestalten. \nDo you feel like experiencing the time of Lent in a special way? Then you’re very welcome to our “Ecumenical retreat in everyday life”!\nWe meet every Tuesday during Lent for a spritual moment and exchange. Afterwards\, we cook together. For the days between meetings\, you’ll get postcards with short texts that can help you shape your personal “moment of silence”.
URL:https://www.khg-in-bayreuth.de/event/oekumenische-alltagsexerzitien-fuer-junge-menschen-ecumenical-retreat-in-everyday-life/2020-03-10/
LOCATION:KHG Bayreuth\, Emil-Warburg-Weg 17\, KHG Bayreuth\, 95447\, Deutschland
ATTACH;FMTTYPE=image/jpeg:https://www.khg-in-bayreuth.de/wp-content/uploads/2020/02/Deckblatt-junge_Alltagsexerzitien_frei.jpg
END:VEVENT
END:VCALENDAR