BEGIN:VCALENDAR
VERSION:2.0
PRODID:-//KHG Bayreuth - ECPv6.15.3//NONSGML v1.0//EN
CALSCALE:GREGORIAN
METHOD:PUBLISH
X-ORIGINAL-URL:https://www.khg-in-bayreuth.de
X-WR-CALDESC:Veranstaltungen für KHG Bayreuth
REFRESH-INTERVAL;VALUE=DURATION:PT1H
X-Robots-Tag:noindex
X-PUBLISHED-TTL:PT1H
BEGIN:VTIMEZONE
TZID:Europe/Berlin
BEGIN:DAYLIGHT
TZOFFSETFROM:+0100
TZOFFSETTO:+0200
TZNAME:CEST
DTSTART:20200329T010000
END:DAYLIGHT
BEGIN:STANDARD
TZOFFSETFROM:+0200
TZOFFSETTO:+0100
TZNAME:CET
DTSTART:20201025T010000
END:STANDARD
END:VTIMEZONE
BEGIN:VEVENT
DTSTART;TZID=Europe/Berlin:20200423T183000
DTEND;TZID=Europe/Berlin:20200423T213000
DTSTAMP:20260425T221158
CREATED:20200325T080537Z
LAST-MODIFIED:20200423T005433Z
UID:10004317-1587666600-1587677400@www.khg-in-bayreuth.de
SUMMARY:Ökumenischer Gemeindeabend / Ecumenical Community Evening
DESCRIPTION:Anstelle eines Escape-Room-Abends in der ESG wird es ein ökumenisches Zoom-Treffen geben. Es beginnt mit einem geistlichen Wort von Pfr. Heinrich Busch\, anschließend ist Gelegenheit zum Austausch. \nhttps://us04web.zoom.us/j/76222126420?pwd=cmhmWlVNNEJnb01OdWlOV2gwT3JaZz09 \nMeeting-ID: 762 2212 6420 \nPasswort: 020732 \n  \n\nInstead of the previously planned “Escape Room” evening\, there will be an ecumenical Zoom meeting. After some spiritual words by Rev. Heinrich Busch\, there will be occasion for open talk. \nhttps://us04web.zoom.us/j/76222126420?pwd=cmhmWlVNNEJnb01OdWlOV2gwT3JaZz09 \nMeeting-ID: 762 2212 6420 \nPasswort: 020732 \n  \n\n  \n 
URL:https://www.khg-in-bayreuth.de/event/oekumenischer-escape-room/
LOCATION:KHG Bayreuth\, Emil-Warburg-Weg 17\, KHG Bayreuth\, 95447\, Deutschland
END:VEVENT
END:VCALENDAR