BEGIN:VCALENDAR
VERSION:2.0
PRODID:-//KHG Bayreuth - ECPv6.15.3//NONSGML v1.0//EN
CALSCALE:GREGORIAN
METHOD:PUBLISH
X-WR-CALNAME:KHG Bayreuth
X-ORIGINAL-URL:https://www.khg-in-bayreuth.de
X-WR-CALDESC:Veranstaltungen für KHG Bayreuth
REFRESH-INTERVAL;VALUE=DURATION:PT1H
X-Robots-Tag:noindex
X-PUBLISHED-TTL:PT1H
BEGIN:VTIMEZONE
TZID:Europe/Berlin
BEGIN:DAYLIGHT
TZOFFSETFROM:+0100
TZOFFSETTO:+0200
TZNAME:CEST
DTSTART:20200329T010000
END:DAYLIGHT
BEGIN:STANDARD
TZOFFSETFROM:+0200
TZOFFSETTO:+0100
TZNAME:CET
DTSTART:20201025T010000
END:STANDARD
END:VTIMEZONE
BEGIN:VEVENT
DTSTART;TZID=Europe/Berlin:20200425T090000
DTEND;TZID=Europe/Berlin:20200425T190000
DTSTAMP:20260425T221028
CREATED:20200401T074211Z
LAST-MODIFIED:20200423T084335Z
UID:10004319-1587805200-1587841200@www.khg-in-bayreuth.de
SUMMARY:Abgesagt: Schnuppertag Segelfliegen / Cancelled: Taster day of gliding
DESCRIPTION:Aufgrund der Corona-Krise muss der Schnuppertag leider entfallen. Wir holen ihn nach\, sobald möglich! \n\nDue to the Corona crisis\, we regret to say that this event has to be cancelled. We’ll get back to it as soon as possible!
URL:https://www.khg-in-bayreuth.de/event/schnuppertag-segelfliegen-bei-gutem-wetter/2020-04-25/
LOCATION:KHG Bayreuth\, Emil-Warburg-Weg 17\, KHG Bayreuth\, 95447\, Deutschland
END:VEVENT
END:VCALENDAR