BEGIN:VCALENDAR
VERSION:2.0
PRODID:-//KHG Bayreuth - ECPv6.15.3//NONSGML v1.0//EN
CALSCALE:GREGORIAN
METHOD:PUBLISH
X-WR-CALNAME:KHG Bayreuth
X-ORIGINAL-URL:https://www.khg-in-bayreuth.de
X-WR-CALDESC:Veranstaltungen für KHG Bayreuth
REFRESH-INTERVAL;VALUE=DURATION:PT1H
X-Robots-Tag:noindex
X-PUBLISHED-TTL:PT1H
BEGIN:VTIMEZONE
TZID:Europe/Berlin
BEGIN:DAYLIGHT
TZOFFSETFROM:+0100
TZOFFSETTO:+0200
TZNAME:CEST
DTSTART:20200329T010000
END:DAYLIGHT
BEGIN:STANDARD
TZOFFSETFROM:+0200
TZOFFSETTO:+0100
TZNAME:CET
DTSTART:20201025T010000
END:STANDARD
END:VTIMEZONE
BEGIN:VEVENT
DTSTART;TZID=Europe/Berlin:20200428T200000
DTEND;TZID=Europe/Berlin:20200428T220000
DTSTAMP:20260425T215441
CREATED:20200403T123543Z
LAST-MODIFIED:20200423T100300Z
UID:10004366-1588104000-1588111200@www.khg-in-bayreuth.de
SUMMARY:KHG-Barabend / KHG bar evening
DESCRIPTION:Da wir uns im Moment nicht zu einem “richtigen” Barabend treffen können\, wollen wir uns online sehen. Unser erster KHG-Barabend in diesem merkwürdigen Sommersemester soll dem allgemeinen Austausch gewidmet sein: Wie geht es Euch mit der Corona-Krise? Wie läuft es mit dem Semesterstart an der Uni? Was gibt es vielleicht sonst noch zu erzählen? \nZugangsdaten: \nKHG-Barabend\nAusgerichtet von Barbara Goeb \nDienstag\, 28 Apr.\, 2020 20:00 | 2 Stunden | (UTC+02:00) Amsterdam\, Berlin\, Bern\, Rom\, Stockholm\, Wien\nMeeting-Kennnummer: 845 488 436\nPasswort: SKcBWsMC673\nhttps://erzbistum-bamberg.webex.com/erzbistum-bamberg/j.php?MTID=me45b8fe3d5fc737692d3984ce9e4dca0 \nÜber Videosystem beitreten\nWählen Sie 845488436@erzbistum-bamberg.webex.com\nSie können auch 62.109.219.4 wählen und Ihre Meeting-Nummer eingeben. \nÜber Telefon beitreten\n+49-619-6781-9736 Germany Toll\n+49-69-2551-14400 Germany Toll 2\nZugriffscode: 845 488 436 \n\nSince we’re not allowed to meet for a proper bar evening\, we’re going to meet online. Our first bar evening in this weird summer semester will be dedicated to general exchange: How are you doing in this Corona crisis? How did the “semester start” work for you? What else would be interesting to tell? \nAccess: \nKHG-Barabend\nAusgerichtet von Barbara Goeb \nDienstag\, 28 Apr.\, 2020 20:00 | 2 Stunden | (UTC+02:00) Amsterdam\, Berlin\, Bern\, Rom\, Stockholm\, Wien\nMeeting-Kennnummer: 845 488 436\nPasswort: SKcBWsMC673\nhttps://erzbistum-bamberg.webex.com/erzbistum-bamberg/j.php?MTID=me45b8fe3d5fc737692d3984ce9e4dca0 \nÜber Videosystem beitreten\nWählen Sie 845488436@erzbistum-bamberg.webex.com\nSie können auch 62.109.219.4 wählen und Ihre Meeting-Nummer eingeben. \nÜber Telefon beitreten\n+49-619-6781-9736 Germany Toll\n+49-69-2551-14400 Germany Toll 2\nZugriffscode: 845 488 436
URL:https://www.khg-in-bayreuth.de/event/khg-barabend-khg-bar-evening-13/
LOCATION:KHG Bayreuth\, Emil-Warburg-Weg 17\, KHG Bayreuth\, 95447\, Deutschland
END:VEVENT
END:VCALENDAR