BEGIN:VCALENDAR
VERSION:2.0
PRODID:-//KHG Bayreuth - ECPv6.15.3//NONSGML v1.0//EN
CALSCALE:GREGORIAN
METHOD:PUBLISH
X-WR-CALNAME:KHG Bayreuth
X-ORIGINAL-URL:https://www.khg-in-bayreuth.de
X-WR-CALDESC:Veranstaltungen für KHG Bayreuth
REFRESH-INTERVAL;VALUE=DURATION:PT1H
X-Robots-Tag:noindex
X-PUBLISHED-TTL:PT1H
BEGIN:VTIMEZONE
TZID:Europe/Berlin
BEGIN:DAYLIGHT
TZOFFSETFROM:+0100
TZOFFSETTO:+0200
TZNAME:CEST
DTSTART:20200329T010000
END:DAYLIGHT
BEGIN:STANDARD
TZOFFSETFROM:+0200
TZOFFSETTO:+0100
TZNAME:CET
DTSTART:20201025T010000
END:STANDARD
END:VTIMEZONE
BEGIN:VEVENT
DTSTART;TZID=Europe/Berlin:20200507T183000
DTEND;TZID=Europe/Berlin:20200507T213000
DTSTAMP:20260425T204909
CREATED:20200401T075109Z
LAST-MODIFIED:20200507T073748Z
UID:10004321-1588876200-1588887000@www.khg-in-bayreuth.de
SUMMARY:Online-Themenabend: "Ökumene leben" / "Living ecumenism"
DESCRIPTION:“Ökumene leben” – Ökumenischer Themenabend rund um die Ökumene \nSpielt es eigentlich noch eine Rolle\, evangelisch oder katholisch zu sein? Wo liegen überhaupt die Unterschiede\, und was genau ist davon für meinen persönlichen Glauben wichtig?  Vor allem: wie wollen wir Ökumene konkret hier in Bayreuth\, in unserer KHG und ESG leben? \nÜber alle diese Fragen wollen wir uns an diesem Abend online austauschen. Wir freuen uns auf Euch! \nZugangsdaten: \nhttps://zoom.us/j/92845393982 \nMeeting-ID: 928 4539 3982 \n  \nSchnelleinwahl mobil \n+496950502596\,\,92845393982# Deutschland \n+496971049922\,\,92845393982# Deutschland \n  \nEinwahl nach aktuellem Standort \n+49 695 050 2596 Deutschland \n+49 69 7104 9922 Deutschland \n+49 30 5679 5800 Deutschland \n  \n  \n\n“Living ecumenism” \nDoes it still matter whether I’m Catholic or Protestant? What are the differences\, and which of these are of any importance for my personal faith? And especially: How would we like to live ecumenism practically here in Bayreuth\, at ESG and KHG? \nWe would like to discuss all these questions online with you. Welcome! \nAccess: \nhttps://zoom.us/j/92845393982 \nMeeting-ID: 928 4539 3982 \n  \nSchnelleinwahl mobil \n+496950502596\,\,92845393982# Deutschland \n+496971049922\,\,92845393982# Deutschland \n  \nEinwahl nach aktuellem Standort \n+49 695 050 2596 Deutschland \n+49 69 7104 9922 Deutschland \n+49 30 5679 5800 Deutschland \n 
URL:https://www.khg-in-bayreuth.de/event/oekumene-leben/
LOCATION:KHG Bayreuth\, Emil-Warburg-Weg 17\, KHG Bayreuth\, 95447\, Deutschland
END:VEVENT
END:VCALENDAR