BEGIN:VCALENDAR
VERSION:2.0
PRODID:-//KHG Bayreuth - ECPv6.15.3//NONSGML v1.0//EN
CALSCALE:GREGORIAN
METHOD:PUBLISH
X-WR-CALNAME:KHG Bayreuth
X-ORIGINAL-URL:https://www.khg-in-bayreuth.de
X-WR-CALDESC:Veranstaltungen für KHG Bayreuth
REFRESH-INTERVAL;VALUE=DURATION:PT1H
X-Robots-Tag:noindex
X-PUBLISHED-TTL:PT1H
BEGIN:VTIMEZONE
TZID:Europe/Berlin
BEGIN:DAYLIGHT
TZOFFSETFROM:+0100
TZOFFSETTO:+0200
TZNAME:CEST
DTSTART:20200329T010000
END:DAYLIGHT
BEGIN:STANDARD
TZOFFSETFROM:+0200
TZOFFSETTO:+0100
TZNAME:CET
DTSTART:20201025T010000
END:STANDARD
END:VTIMEZONE
BEGIN:VEVENT
DTSTART;TZID=Europe/Berlin:20200519T200000
DTEND;TZID=Europe/Berlin:20200519T213000
DTSTAMP:20260425T203812
CREATED:20200401T080957Z
LAST-MODIFIED:20200519T150038Z
UID:10004322-1589918400-1589923800@www.khg-in-bayreuth.de
SUMMARY:Online-Challenge: Desserts aus aller Welt / Online Challenge: Desserts from all over the world
DESCRIPTION:– English version below – \nIhr liebt Desserts und möchtet gerne weitere Leckereien aus aller Welt kennenlernen?\nDann seid ihr bei unserem Dessertabend genau richtig: Egal ob ihr Zuhause oder in Bayreuth seid\, wir freuen uns auf eure Teilnahme! \nAblauf:\nBereitet euer Lieblingsdessert zu und schickt uns bis 19:30 Uhr ein Foto davon! (Mail an: barbara.goeb@erzbistum-bamberg.de)\nAnschließend werden diese Fotos auf unserem neuen Instagram-Account gepostet und ihr dürft für die schönsten & leckersten (-aussehende) Desserts abstimmen! \nhttps://www.instagram.com/khg.bayreuth/ \nFür alle\, die in Bayreuth sind und die Gelegenheit haben\, in die KHG zu kommen: Bringt gerne bis 19.30 Uhr eine Kostprobe in die KHG und nehmt Euch ab 20.00 Uhr von allen Desserts\, die dort abgeliefert werden\, etwas mit! (Bitte eigene Dose oder Schüssel mitbringen …) \nDie Abstimmung findet zwischen 20 und 21 Uhr statt! Wer keinen Instagram-Account hat\, kann die Bilder in dieser Zeit auch so anschauen und uns sein Voting per Mail (oder What’sApp) schicken. \nDie Preisverleihung und ein kleines Quiz finden abschließend auf Zoom um 21.00 Uhr statt – Link siehe unten. \nUnd natürlich gibt es auch einen Preis: Für das Dessert mit den meisten Likes gibt es einen Gutschein von der Tortenschmiede Bayreuth. \nWir freuen uns auf eure Bilder und Likes und sind schon ganz gespannt auf eure Desserts! \n\nZoom-Meeting beitreten\nhttps://uni-bayreuth.zoom.us/j/93046800237?pwd=NFJLVnVib3R6OGswN0JJZVVKbm1GZ\nz09 \nMeeting-ID: 930 4680 0237\nPasswort: 017633\nSchnelleinwahl mobil\n+493056795800\,\,93046800237#\,\,#\,017633# Deutschland\n+496950502596\,\,93046800237#\,\,#\,017633# Deutschland \nEinwahl nach aktuellem Standort\n+49 30 5679 5800 Deutschland\n+49 695 050 2596 Deutschland\n+49 69 7104 9922 Deutschland\nMeeting-ID: 930 4680 0237\nPasswort: 017633\nOrtseinwahl suchen: https://uni-bayreuth.zoom.us/u/ab0mZc1EDh \nÜber SIP beitreten\n93046800237@zoomcrc.com <mailto:93046800237@zoomcrc.com> \nÜber H.323 beitreten\n162.255.37.11 (US West)\n162.255.36.11 (US East)\n213.19.144.110 (EMEA)\n69.174.57.160 (Canada)\n207.226.132.110 (Japan)\nPasswort: 017633\nMeeting-ID: 930 4680 0237 \nÜber Skype for Business beitreten\nhttps://uni-bayreuth.zoom.us/skype/93046800237 \n  \n\n– English version – \nYou love desserts und would like to get to know more delicious treats from all over the world? \nThen you should participate in our online dessert evening: Whether you are at home or in Bayreuth\, we’re looking forward to your contribution! \nSchedule: \nPrepare your favourite dessert and send it us a foto by 7.30 pm! (Mail to: barbara.goeb@erzbistum-bamberg.de) \nAfterwards\, we’ll post the photos on our new KHG intagram account and you can vote for the most beautiful and appetizing desserts! \nhttps://www.instagram.com/khg.bayreuth/ \nThe voting will take place between 8 and 9 pm! If you haven’t got an instagram account\, you can still peruse the pictures and give us your vote via e-mail. \nFor those who are in Bayreuth: You can also bring your dessert to KHG by 7.30 pm and afterwards take away tasting portions of the other desserts (please bring your own box)! \nAt 9 pm\, the awards ceremony and a quiz will take place on Zoom at 9 pm – for the link\, see below. \nOh\, and of course there’s a price: The dessert with the most likes will be awarded with a voucher for “Tortenschmiede” (a café in Bayreuth with excellent self-made cakes). \nWe’re looking forward to your pictures and likes and are all agog to getting to know new desserts! \n  \nZoom-Meeting beitreten\nhttps://uni-bayreuth.zoom.us/j/93046800237?pwd=NFJLVnVib3R6OGswN0JJZVVKbm1GZ\nz09 \nMeeting-ID: 930 4680 0237\nPasswort: 017633\nSchnelleinwahl mobil\n+493056795800\,\,93046800237#\,\,#\,017633# Deutschland\n+496950502596\,\,93046800237#\,\,#\,017633# Deutschland \nEinwahl nach aktuellem Standort\n+49 30 5679 5800 Deutschland\n+49 695 050 2596 Deutschland\n+49 69 7104 9922 Deutschland\nMeeting-ID: 930 4680 0237\nPasswort: 017633\nOrtseinwahl suchen: https://uni-bayreuth.zoom.us/u/ab0mZc1EDh \nÜber SIP beitreten\n93046800237@zoomcrc.com <mailto:93046800237@zoomcrc.com> \nÜber H.323 beitreten\n162.255.37.11 (US West)\n162.255.36.11 (US East)\n213.19.144.110 (EMEA)\n69.174.57.160 (Canada)\n207.226.132.110 (Japan)\nPasswort: 017633\nMeeting-ID: 930 4680 0237 \nÜber Skype for Business beitreten\nhttps://uni-bayreuth.zoom.us/skype/93046800237 \n 
URL:https://www.khg-in-bayreuth.de/event/barabend-desserts-aus-aller-welt/
LOCATION:KHG Bayreuth\, Emil-Warburg-Weg 17\, KHG Bayreuth\, 95447\, Deutschland
END:VEVENT
END:VCALENDAR