BEGIN:VCALENDAR
VERSION:2.0
PRODID:-//KHG Bayreuth - ECPv6.15.3//NONSGML v1.0//EN
CALSCALE:GREGORIAN
METHOD:PUBLISH
X-WR-CALNAME:KHG Bayreuth
X-ORIGINAL-URL:https://www.khg-in-bayreuth.de
X-WR-CALDESC:Veranstaltungen für KHG Bayreuth
REFRESH-INTERVAL;VALUE=DURATION:PT1H
X-Robots-Tag:noindex
X-PUBLISHED-TTL:PT1H
BEGIN:VTIMEZONE
TZID:Europe/Berlin
BEGIN:DAYLIGHT
TZOFFSETFROM:+0100
TZOFFSETTO:+0200
TZNAME:CEST
DTSTART:20200329T010000
END:DAYLIGHT
BEGIN:STANDARD
TZOFFSETFROM:+0200
TZOFFSETTO:+0100
TZNAME:CET
DTSTART:20201025T010000
END:STANDARD
END:VTIMEZONE
BEGIN:VEVENT
DTSTART;TZID=Europe/Berlin:20200524T190000
DTEND;TZID=Europe/Berlin:20200524T200000
DTSTAMP:20260425T204643
CREATED:20200403T122002Z
LAST-MODIFIED:20200516T104215Z
UID:10004363-1590346800-1590350400@www.khg-in-bayreuth.de
SUMMARY:"(Un)gewöhnliche Begegnungen": Online-Gottesdienst // "(Un)usual encounters": Religious service online
DESCRIPTION:Herzliche Einladung zu unserem Online-Gottesdienst zum Thema “(Un)gewöhnliche Begegnungen” am Sonntag\, den 24.05.2020\, um 19 Uhr via Zoom. \nWir laden ein\, euch vor dem Gottesdienst schon einmal Gedanken zu einer privaten (un)gewöhnlichen Begegnung zu machen! \nÜber den folgenden Link könnt ihr spätestens 5 Minuten vor Beginn des Gottesdienstes der Veranstaltung beitreten: \nhttps://uni-bayreuth.zoom.us/j/95891227013?pwd=dXRlekJvTk1lSUVxblFpYnZ0Um55QT09 \nMeeting-ID: 958 9122 7013 // Passwort: 114937 \n—————————————————————– \nWelcome to our online service on the theme “(Un)common encounters” on Sunday\, 24.05.2020\, at 19:00 via Zoom. \nWe invite you to think about a private (un)common encounter before the service! \nYou can join the event via the following link at least 5 minutes before the service starts: \nhttps://uni-bayreuth.zoom.us/j/95891227013?pwd=dXRlekJvTk1lSUVxblFpYnZ0Um55QT09 \nMeeting ID: 958 9122 7013 // Password: 114937 \n  \n 
URL:https://www.khg-in-bayreuth.de/event/eucharistiefeier-holy-mass-18/
LOCATION:KHG Bayreuth\, Emil-Warburg-Weg 17\, KHG Bayreuth\, 95447\, Deutschland
END:VEVENT
END:VCALENDAR