BEGIN:VCALENDAR
VERSION:2.0
PRODID:-//KHG Bayreuth - ECPv6.15.3//NONSGML v1.0//EN
CALSCALE:GREGORIAN
METHOD:PUBLISH
X-ORIGINAL-URL:https://www.khg-in-bayreuth.de
X-WR-CALDESC:Veranstaltungen für KHG Bayreuth
REFRESH-INTERVAL;VALUE=DURATION:PT1H
X-Robots-Tag:noindex
X-PUBLISHED-TTL:PT1H
BEGIN:VTIMEZONE
TZID:Europe/Berlin
BEGIN:DAYLIGHT
TZOFFSETFROM:+0100
TZOFFSETTO:+0200
TZNAME:CEST
DTSTART:20200329T010000
END:DAYLIGHT
BEGIN:STANDARD
TZOFFSETFROM:+0200
TZOFFSETTO:+0100
TZNAME:CET
DTSTART:20201025T010000
END:STANDARD
END:VTIMEZONE
BEGIN:VEVENT
DTSTART;TZID=Europe/Berlin:20200526T200000
DTEND;TZID=Europe/Berlin:20200526T230000
DTSTAMP:20260425T205034
CREATED:20200401T081950Z
LAST-MODIFIED:20200516T112929Z
UID:10004323-1590523200-1590534000@www.khg-in-bayreuth.de
SUMMARY:Digitaler Gesprächsabend "Psychische Gesundheit in Zeiten von Corona" / Online Talk "Mental health in times of Corona"
DESCRIPTION:Ökumenischer Gesprächsabend über Zoom:\nmit Diplompsychologin und Psychologischer Psychotherapeutin Dr. Theresa Wechsler\, Uni Regensburg \nWir werden eine Online-Studie zur psychischen Gesundheit während Corona kennenlernen und darüber ins Gespräch kommen. Darüber hinaus ist auch Raum für persönliche Fragen und Anliegen! \nZoom-Meeting beitreten\nhttps://zoom.us/j/92601476005 \nMeeting-ID: 926 0147 6005\nSchnelleinwahl mobil\n+496971049922\,\,92601476005# Deutschland\n+493056795800\,\,92601476005# Deutschland \nEinwahl nach aktuellem Standort\n+49 69 7104 9922 Deutschland\n+49 30 5679 5800 Deutschland\n+49 695 050 2596 Deutschland\nMeeting-ID: 926 0147 6005\nOrtseinwahl suchen: https://zoom.us/u/ad38yX25pt \n__________________________ \nEcumenical talk evening via Zoom: \nwith psychologist and psychotherapist Dr. Theresa Wechsler\, Regensburg University \nDr. Wechsler will inform us about the results of an online survey on the topic of mental health during Corona times. Afterwards\, there’ll be time for exchange\, and also for personal questions. \nZoom-Meeting beitreten\nhttps://zoom.us/j/92601476005 \nMeeting-ID: 926 0147 6005\nSchnelleinwahl mobil\n+496971049922\,\,92601476005# Deutschland\n+493056795800\,\,92601476005# Deutschland \nEinwahl nach aktuellem Standort\n+49 69 7104 9922 Deutschland\n+49 30 5679 5800 Deutschland\n+49 695 050 2596 Deutschland\nMeeting-ID: 926 0147 6005\nOrtseinwahl suchen: https://zoom.us/u/ad38yX25pt
URL:https://www.khg-in-bayreuth.de/event/barabend-themenabend-depression/
LOCATION:KHG Bayreuth\, Emil-Warburg-Weg 17\, KHG Bayreuth\, 95447\, Deutschland
END:VEVENT
END:VCALENDAR