BEGIN:VCALENDAR
VERSION:2.0
PRODID:-//KHG Bayreuth - ECPv6.15.3//NONSGML v1.0//EN
CALSCALE:GREGORIAN
METHOD:PUBLISH
X-ORIGINAL-URL:https://www.khg-in-bayreuth.de
X-WR-CALDESC:Veranstaltungen für KHG Bayreuth
REFRESH-INTERVAL;VALUE=DURATION:PT1H
X-Robots-Tag:noindex
X-PUBLISHED-TTL:PT1H
BEGIN:VTIMEZONE
TZID:Europe/Berlin
BEGIN:DAYLIGHT
TZOFFSETFROM:+0100
TZOFFSETTO:+0200
TZNAME:CEST
DTSTART:20200329T010000
END:DAYLIGHT
BEGIN:STANDARD
TZOFFSETFROM:+0200
TZOFFSETTO:+0100
TZNAME:CET
DTSTART:20201025T010000
END:STANDARD
END:VTIMEZONE
BEGIN:VEVENT
DTSTART;TZID=Europe/Berlin:20200529T070000
DTEND;TZID=Europe/Berlin:20200529T083000
DTSTAMP:20260425T203910
CREATED:20200403T121152Z
LAST-MODIFIED:20200511T101826Z
UID:10004351-1590735600-1590741000@www.khg-in-bayreuth.de
SUMMARY:Frühschicht online // Morning prayer online
DESCRIPTION:Freitagsmorgens treffen wir uns während der Vorlesungszeit um 07:00 Uhr zu einer kurzen Morgenandacht. \nSolange wir uns aufgrund des Corona-Virus und den damit verbundenen Kontakt- und Veranstaltungsverboten nicht in der KHG treffen können\, werden wir die Frühschicht online über Zoom feiern. \nZugang zur Online-Frühschicht ist über folgenden Link möglich: \nhttps://uni-bayreuth.zoom.us/j/95891227013?pwd=dXRlekJvTk1lSUVxblFpYnZ0Um55QT09 \nMeeting-ID: 958 9122 7013 // Passwort: 114937 \n——————————————————————————————-\nOn Friday mornings we meet during the lecture period at 07:00 for a short morning prayer. \nBut since we are currently unable to meet in the KHG due to the corona virus and the associated contact and event bans\, we will celebrate the “Frühschicht” online via Zoom. \nAccess to the online Frühschicht is possible via the following link: \nhttps://uni-bayreuth.zoom.us/j/95891227013?pwd=dXRlekJvTk1lSUVxblFpYnZ0Um55QT09 \nMeeting-ID: 958 9122 7013 // Password: 114937
URL:https://www.khg-in-bayreuth.de/event/fruehschicht-morning-prayer-2/2020-05-29/
LOCATION:KHG Bayreuth\, Emil-Warburg-Weg 17\, KHG Bayreuth\, 95447\, Deutschland
END:VEVENT
BEGIN:VEVENT
DTSTART;TZID=Europe/Berlin:20200529T100000
DTEND;TZID=Europe/Berlin:20200529T113000
DTSTAMP:20260425T203910
CREATED:20200403T124811Z
LAST-MODIFIED:20200516T014651Z
UID:10004370-1590746400-1590751800@www.khg-in-bayreuth.de
SUMMARY:Theologischer Gesprächskreis online/ Theological discussion group online
DESCRIPTION:Wir treffen uns – während der Corona-Zeit leider nur online! – alle zwei Wochen am Freitagmorgen\, um kurze theologische Texte zu lesen und zu diskutieren. Im Sommersemester 2020 lautet unser Semesterthema “Theologie des Mittelalters”. Theologische Vorkenntnisse sind nicht erforderlich\, Spaß am Denken (und an ein bisschen Textarbeit …) genügt! \nWer Interesse hat\, die Texte vorher zugeschickt zu bekommen\, schreibe bitte eine Mail an unsere Pastoralreferentin Barbara Göb: barbara.goeb@erzbistum-bamberg.de \nZugangsdaten: \nZoom-Meeting beitreten \nhttps://uni-bayreuth.zoom.us/j/95313405166?pwd=cEhzR1V6NEdrN2hqL2hWZmVvOVlIUT09 \nMeeting-ID: 953 1340 5166 \nPasswort: 690780 \nSchnelleinwahl mobil \n+496971049922\,\,95313405166#\,\,#\,690780# Deutschland \n+493056795800\,\,95313405166#\,\,#\,690780# Deutschland \nEinwahl nach aktuellem Standort \n+49 69 7104 9922 Deutschland \n+49 30 5679 5800 Deutschland \n+49 695 050 2596 Deutschland \nMeeting-ID: 953 1340 5166 \nPasswort: 690780 \nOrtseinwahl suchen: https://uni-bayreuth.zoom.us/u/abXiug0l7l \nÜber SIP beitreten \n95313405166@zoomcrc.com \nÜber H.323 beitreten \n162.255.37.11 (US West) \n162.255.36.11 (US East) \n213.19.144.110 (EMEA) \n69.174.57.160 (Canada) \n207.226.132.110 (Japan) \nPasswort: 690780 \nMeeting-ID: 953 1340 5166 \nÜber Skype for Business beitreten \nhttps://uni-bayreuth.zoom.us/skype/95313405166 \n\nWe meet every second Friday morning to read a short theological text and discuss it. In Corona times\, only online! \nOur topic in summer semester will be: Theology of the Middle Ages. Please note: Theology is a subject which is very sensitive to language\, so texts cannot be easily translated or discussed in two languages at a time. If you like to join the discussion\, some knowledge of German will be necessary. \nIf you’d like to get the texts sent to you beforehand\, please write an e-mail to our chaplain Barbara Göb: barbara.goeb@erzbistum-bamberg.de \nAccess: \nZoom-Meeting beitreten \nhttps://uni-bayreuth.zoom.us/j/95313405166?pwd=cEhzR1V6NEdrN2hqL2hWZmVvOVlIUT09 \nMeeting-ID: 953 1340 5166 \nPasswort: 690780 \nSchnelleinwahl mobil \n+496971049922\,\,95313405166#\,\,#\,690780# Deutschland \n+493056795800\,\,95313405166#\,\,#\,690780# Deutschland \nEinwahl nach aktuellem Standort \n+49 69 7104 9922 Deutschland \n+49 30 5679 5800 Deutschland \n+49 695 050 2596 Deutschland \nMeeting-ID: 953 1340 5166 \nPasswort: 690780 \nOrtseinwahl suchen: https://uni-bayreuth.zoom.us/u/abXiug0l7l \nÜber SIP beitreten \n95313405166@zoomcrc.com \nÜber H.323 beitreten \n162.255.37.11 (US West) \n162.255.36.11 (US East) \n213.19.144.110 (EMEA) \n69.174.57.160 (Canada) \n207.226.132.110 (Japan) \nPasswort: 690780 \nMeeting-ID: 953 1340 5166 \nÜber Skype for Business beitreten \nhttps://uni-bayreuth.zoom.us/skype/95313405166
URL:https://www.khg-in-bayreuth.de/event/theologischer-gespraechskreis-theological-discussion-group-3-2020-06-05/2020-05-29/
LOCATION:KHG Bayreuth\, Emil-Warburg-Weg 17\, KHG Bayreuth\, 95447\, Deutschland
END:VEVENT
END:VCALENDAR