BEGIN:VCALENDAR
VERSION:2.0
PRODID:-//KHG Bayreuth - ECPv6.15.3//NONSGML v1.0//EN
CALSCALE:GREGORIAN
METHOD:PUBLISH
X-WR-CALNAME:KHG Bayreuth
X-ORIGINAL-URL:https://www.khg-in-bayreuth.de
X-WR-CALDESC:Veranstaltungen für KHG Bayreuth
REFRESH-INTERVAL;VALUE=DURATION:PT1H
X-Robots-Tag:noindex
X-PUBLISHED-TTL:PT1H
BEGIN:VTIMEZONE
TZID:Europe/Berlin
BEGIN:DAYLIGHT
TZOFFSETFROM:+0100
TZOFFSETTO:+0200
TZNAME:CEST
DTSTART:20200329T010000
END:DAYLIGHT
BEGIN:STANDARD
TZOFFSETFROM:+0200
TZOFFSETTO:+0100
TZNAME:CET
DTSTART:20201025T010000
END:STANDARD
END:VTIMEZONE
BEGIN:VEVENT
DTSTART;TZID=Europe/Berlin:20200602T160000
DTEND;TZID=Europe/Berlin:20200602T160000
DTSTAMP:20260425T185609
CREATED:20200401T084143Z
LAST-MODIFIED:20200528T210305Z
UID:10004324-1591113600-1591113600@www.khg-in-bayreuth.de
SUMMARY:Fahrrad-Schnitzeljagd / Bicycle paper chase
DESCRIPTION:Am vorlesungsfreien Pfingstdienstag wollen wir eine Fahrrad-Schnitzeljagd unter Einhaltung der Corona-Beschränkungen durchführen. \nHierzu können sich im Voraus bereits Gruppen von max. 2 Personen bzw. Personen von zwei Haushalten zusammenfinden und von einem selbstgewählten Ort aus starten. Meldet euch hierfür bis Pfingstmontag per E-Mail (barbara.goeb@erzbistum-bamberg.de) an\, um weitere Informationen zu erhalten. \nAlle\, die spontan mitfahren möchten bzw. noch keine Gruppe haben\, treffen sich um 16 Uhr vor der KHG! \nWICHTIG: Bitte nehmt für die Schnitzeljagd euer Smartphone mit! \nKurze Infos zur Strecke:\n– Streckenlänge: ca. 34 km\n– Fahrtdauer: ca. 2 h\n– Höhenunterschied: jeweils 200 m bergauf/bergab\n-> Strecke ist für alle gut machbar \n\nOn Whit Tuesday\, which is free of lectures\, we want to have a bicycle paper chase in compliance with the Corona restrictions. \nFor this purpose\, groups of max. 2 persons or persons from two households can meet in advance and start from a self-chosen place. Please register for this by e-mail (barbara.goeb@erzbistum-bamberg.de) until Whit Monday to receive further information. \nAll those who would like to join us spontaneously or do not have a group yet\, meet in front of the KHG at 4 pm! \nIMPORTANT: Please take your Smartphone with you for the paper chase! \nShort information about the route:\n– Route length: approx. 34 km\n– Travel time: approx. 2 h\n– Height difference: 200 m uphill/downhill\n-> route is well feasible for everyone
URL:https://www.khg-in-bayreuth.de/event/gemeinsame-fahrradtour/
LOCATION:KHG Bayreuth\, Emil-Warburg-Weg 17\, KHG Bayreuth\, 95447\, Deutschland
END:VEVENT
END:VCALENDAR