BEGIN:VCALENDAR
VERSION:2.0
PRODID:-//KHG Bayreuth - ECPv6.15.3//NONSGML v1.0//EN
CALSCALE:GREGORIAN
METHOD:PUBLISH
X-ORIGINAL-URL:https://www.khg-in-bayreuth.de
X-WR-CALDESC:Veranstaltungen für KHG Bayreuth
REFRESH-INTERVAL;VALUE=DURATION:PT1H
X-Robots-Tag:noindex
X-PUBLISHED-TTL:PT1H
BEGIN:VTIMEZONE
TZID:Europe/Berlin
BEGIN:DAYLIGHT
TZOFFSETFROM:+0100
TZOFFSETTO:+0200
TZNAME:CEST
DTSTART:20200329T010000
END:DAYLIGHT
BEGIN:STANDARD
TZOFFSETFROM:+0200
TZOFFSETTO:+0100
TZNAME:CET
DTSTART:20201025T010000
END:STANDARD
END:VTIMEZONE
BEGIN:VEVENT
DTSTART;TZID=Europe/Berlin:20200609T200000
DTEND;TZID=Europe/Berlin:20200609T220000
DTSTAMP:20260425T232359
CREATED:20200401T085206Z
LAST-MODIFIED:20200605T025741Z
UID:10004325-1591732800-1591740000@www.khg-in-bayreuth.de
SUMMARY:Online Spieleabend // Online game evening
DESCRIPTION:Willkommen zu unserem Online-Spieleabend! Da wir uns noch nicht live am Tisch treffen können\, versuchen wir uns an Online-Brettspielen. Wir spielen auf https://boardgamearena.com . Wenn möglich\, meldet Euch bereits im Vorfeld dort an\, damit wir ohne größere Verzögerung starten! Ihr könnt dann auch schon stöbern und schauen\, welche Spiele Ihr gerne spielen möchtet. Am Abend selbst treffen wir uns dann im Videochat bei Webex. Der Konferenzraum ist ab 19.30 Uhr geöffnet\, so dass wir uns schon früher treffen und über die Spielauswahl diskutieren können. \nHier die Zugangsdaten: \nOnline-Spieleabend\nAusgerichtet von Barbara Goeb \nDienstag\, 9 Juni\, 2020 19:30 | 2 Stunden | (UTC+02:00) Amsterdam\, Berlin\, Bern\, Rom\, Stockholm\, Wien\nMeeting-Kennnummer: 320 846 892\nPasswort: v4M23Xpqy3T\nhttps://erzbistum-bamberg.webex.com/erzbistum-bamberg-de/j.php?MTID=m99a7d31c0f517486172ddad6d0e80fe3 \nÜber Videosystem beitreten\nWählen Sie 320846892@erzbistum-bamberg.webex.com\nSie können auch 62.109.219.4 wählen und Ihre Meeting-Nummer eingeben. \nÜber Telefon beitreten\n+49-619-6781-9736 Germany Toll\n+49-69-2551-14400 Germany Toll 3\nZugriffscode: 320 846 892 \n\nWelcome to our online game evening! Since we can’t meet at a table yet\, we’re going to play online board games on https://boardgamearena.com. Please register beforehand\, if possible! Thus you’ll also be able to rummage around and see which games you’d like to play. On the evening itself\, we’ll meet via video chat on Webex (access code see above). The conference room will be open from 7.30 pm\, so that there’ll still be time to discuss which game to play …
URL:https://www.khg-in-bayreuth.de/event/oekum-synagogenfuehrung/
LOCATION:KHG Bayreuth\, Emil-Warburg-Weg 17\, KHG Bayreuth\, 95447\, Deutschland
END:VEVENT
END:VCALENDAR