BEGIN:VCALENDAR
VERSION:2.0
PRODID:-//KHG Bayreuth - ECPv6.15.3//NONSGML v1.0//EN
CALSCALE:GREGORIAN
METHOD:PUBLISH
X-WR-CALNAME:KHG Bayreuth
X-ORIGINAL-URL:https://www.khg-in-bayreuth.de
X-WR-CALDESC:Veranstaltungen für KHG Bayreuth
REFRESH-INTERVAL;VALUE=DURATION:PT1H
X-Robots-Tag:noindex
X-PUBLISHED-TTL:PT1H
BEGIN:VTIMEZONE
TZID:Europe/Berlin
BEGIN:DAYLIGHT
TZOFFSETFROM:+0100
TZOFFSETTO:+0200
TZNAME:CEST
DTSTART:20200329T010000
END:DAYLIGHT
BEGIN:STANDARD
TZOFFSETFROM:+0200
TZOFFSETTO:+0100
TZNAME:CET
DTSTART:20201025T010000
END:STANDARD
END:VTIMEZONE
BEGIN:VEVENT
DTSTART;TZID=Europe/Berlin:20200611T193000
DTEND;TZID=Europe/Berlin:20200611T210000
DTSTAMP:20260425T190303
CREATED:20200605T031041Z
LAST-MODIFIED:20200605T031142Z
UID:10004388-1591903800-1591909200@www.khg-in-bayreuth.de
SUMMARY:Digitaler Länderabend „Togo“ mit Olivier und Daniel
DESCRIPTION:Olivier Akoto (früher Choreograf\, jetzt in der Ausbildung zum Zimmermann) erzählt über sein Heimatland Togo. Dabei erfahren wir Spannendes u.a. über Geographie\, Geschichte\, Sehenswürdigkeiten sowie Musik und Tänze.des Landes.\n\n\n\n\n\nEinwahldaten für das Zoom-Meeting:\nhttps://zoom.us/j/93353152087\nMeeting-ID: 933 5315 2087\nSchnelleinwahl: +496971049922\,\,93353152087# Deutschland I +493056795800\,\,93353152087# Deutschland I Ortseinwahl suchen: https://zoom.us/u/aexyiTCwN3\n\n\n\n– Enlish version –\n\nOlivier Akoto (former choreographer\, now training to become a carpenter) will inform us about his home country\, Togo. Thus we’ll get thrilling information about the country’s geography\, history\, sights\, music and dance!\n\n 
URL:https://www.khg-in-bayreuth.de/event/digitaler-laenderabend-togo-mit-olivier-und-daniel/
LOCATION:KHG Bayreuth\, Emil-Warburg-Weg 17\, KHG Bayreuth\, 95447\, Deutschland
END:VEVENT
END:VCALENDAR