BEGIN:VCALENDAR
VERSION:2.0
PRODID:-//KHG Bayreuth - ECPv6.15.3//NONSGML v1.0//EN
CALSCALE:GREGORIAN
METHOD:PUBLISH
X-WR-CALNAME:KHG Bayreuth
X-ORIGINAL-URL:https://www.khg-in-bayreuth.de
X-WR-CALDESC:Veranstaltungen für KHG Bayreuth
REFRESH-INTERVAL;VALUE=DURATION:PT1H
X-Robots-Tag:noindex
X-PUBLISHED-TTL:PT1H
BEGIN:VTIMEZONE
TZID:Europe/Berlin
BEGIN:DAYLIGHT
TZOFFSETFROM:+0100
TZOFFSETTO:+0200
TZNAME:CEST
DTSTART:20200329T010000
END:DAYLIGHT
BEGIN:STANDARD
TZOFFSETFROM:+0200
TZOFFSETTO:+0100
TZNAME:CET
DTSTART:20201025T010000
END:STANDARD
END:VTIMEZONE
BEGIN:VEVENT
DTSTART;TZID=Europe/Berlin:20200617T120000
DTEND;TZID=Europe/Berlin:20200617T123000
DTSTAMP:20260425T185612
CREATED:20200516T164147Z
LAST-MODIFIED:20200516T164147Z
UID:10004380-1592395200-1592397000@www.khg-in-bayreuth.de
SUMMARY:Spirituelle Mittagspause vor der KHG
DESCRIPTION:Wir treffen uns ab Mittwoch\, 20. Mai\, wieder jeden Mittwochmittag zu einer kurzen Andacht VOR der KHG. Bitte achtet auf Sicherheitsabstand und Hygieneregeln! Bei Regen kann die Andacht leider nicht stattfinden. \nZur Zeit ist es leider auch noch nicht möglich\, im Anschluss gemeinsam Suppe zu essen\, aber wir hoffen\, dass sich das im Lauf des Sommersemesters noch ändern wird. \n___________________ \nFrom Wednesday\, May 20th\, we meet again every Wednesday noon for a short prayer IN FRONT OF KHG. Please observe safety distance and hygiene rules! In rainy weather\, the prayer will not take place. \nUnfortunately\, it is still not possible to have soup together afterwards\, but we hope that will change over time.
URL:https://www.khg-in-bayreuth.de/event/spirituelle-mittagspause-vor-der-khg/2020-06-17/
LOCATION:KHG Bayreuth\, Emil-Warburg-Weg 17\, KHG Bayreuth\, 95447\, Deutschland
END:VEVENT
BEGIN:VEVENT
DTSTART;TZID=Europe/Berlin:20200617T200000
DTEND;TZID=Europe/Berlin:20200617T213000
DTSTAMP:20260425T185612
CREATED:20200616T012710Z
LAST-MODIFIED:20200616T012933Z
UID:10004390-1592424000-1592429400@www.khg-in-bayreuth.de
SUMMARY:Gospelchorprobe online // Gospel Choir rehearsal
DESCRIPTION:Der ökumenische Gospelchor probt in diesem Semester online über Zoom. Wenn Ihr Interesse habt\, mitzusingen\, meldet euch per Mail bei: gospelchor.bayreuth@web.de ! \nOur ecumenical Gospel Choir is rehearsing online via Zoom this semester. If you are interested to join\, please contact gospelchor.bayreuth@web.de !
URL:https://www.khg-in-bayreuth.de/event/gospelchorprobe-online/2020-06-17/
LOCATION:KHG Bayreuth\, Emil-Warburg-Weg 17\, KHG Bayreuth\, 95447\, Deutschland
END:VEVENT
END:VCALENDAR