BEGIN:VCALENDAR
VERSION:2.0
PRODID:-//KHG Bayreuth - ECPv6.15.3//NONSGML v1.0//EN
CALSCALE:GREGORIAN
METHOD:PUBLISH
X-WR-CALNAME:KHG Bayreuth
X-ORIGINAL-URL:https://www.khg-in-bayreuth.de
X-WR-CALDESC:Veranstaltungen für KHG Bayreuth
REFRESH-INTERVAL;VALUE=DURATION:PT1H
X-Robots-Tag:noindex
X-PUBLISHED-TTL:PT1H
BEGIN:VTIMEZONE
TZID:Europe/Berlin
BEGIN:DAYLIGHT
TZOFFSETFROM:+0100
TZOFFSETTO:+0200
TZNAME:CEST
DTSTART:20200329T010000
END:DAYLIGHT
BEGIN:STANDARD
TZOFFSETFROM:+0200
TZOFFSETTO:+0100
TZNAME:CET
DTSTART:20201025T010000
END:STANDARD
END:VTIMEZONE
BEGIN:VEVENT
DTSTART;TZID=Europe/Berlin:20200621T190000
DTEND;TZID=Europe/Berlin:20200621T190000
DTSTAMP:20260425T185609
CREATED:20200615T071934Z
LAST-MODIFIED:20200620T144532Z
UID:10004389-1592766000-1592766000@www.khg-in-bayreuth.de
SUMMARY:"Wagt Euch zu den Ufern" Online-Gottesdienst  / "Empowering Love" Online religious service (bilingual)
DESCRIPTION:Was gibt mir die Kraft\, zu neuen Ufern aufzubrechen? Woher nehme ich den Mut\, mich den Herausforderungen meines Lebens zu stellen – und dabei auch mal “gegen den Strom” zu schwimmen? In unserem Mutmach-Zoom-Gottesdienst tauschen wir uns darüber aus und feiern gemeinsam das Leben! \nHerzliche Einladung unter folgendem Link: \nhttps://uni-bayreuth.zoom.us/j/95891227013?pwd=dXRlekJvTk1lSUVxblFpYnZ0Um55QT09 \nMeeting-ID: 958 9122 7013 // Passwort: 114937 \n\nWhat is it that provides me with the strength to reach out to new shores? Where do I get the courage to meet the challenges of my life? In our Empowering Zoom Service we’re going to share our experiences and celebrate life together! The service will be bilingual (German and English). \nYou’re very welcome to join via the following link: \nhttps://uni-bayreuth.zoom.us/j/95891227013?pwd=dXRlekJvTk1lSUVxblFpYnZ0Um55QT09 \nMeeting-ID: 958 9122 7013 // Passwort: 114937
URL:https://www.khg-in-bayreuth.de/event/online-gottesdienst/
LOCATION:KHG Bayreuth\, Emil-Warburg-Weg 17\, KHG Bayreuth\, 95447\, Deutschland
END:VEVENT
END:VCALENDAR