BEGIN:VCALENDAR
VERSION:2.0
PRODID:-//KHG Bayreuth - ECPv6.15.3//NONSGML v1.0//EN
CALSCALE:GREGORIAN
METHOD:PUBLISH
X-ORIGINAL-URL:https://www.khg-in-bayreuth.de
X-WR-CALDESC:Veranstaltungen für KHG Bayreuth
REFRESH-INTERVAL;VALUE=DURATION:PT1H
X-Robots-Tag:noindex
X-PUBLISHED-TTL:PT1H
BEGIN:VTIMEZONE
TZID:Europe/Berlin
BEGIN:DAYLIGHT
TZOFFSETFROM:+0100
TZOFFSETTO:+0200
TZNAME:CEST
DTSTART:20200329T010000
END:DAYLIGHT
BEGIN:STANDARD
TZOFFSETFROM:+0200
TZOFFSETTO:+0100
TZNAME:CET
DTSTART:20201025T010000
END:STANDARD
END:VTIMEZONE
BEGIN:VEVENT
DTSTART;TZID=Europe/Berlin:20200623T200000
DTEND;TZID=Europe/Berlin:20200623T213000
DTSTAMP:20260425T185816
CREATED:20200401T085554Z
LAST-MODIFIED:20200610T065158Z
UID:10004327-1592942400-1592947800@www.khg-in-bayreuth.de
SUMMARY:Alles gut in der "Sharing Economy"? Online Gesprächsabend/ All’s well in the “sharing economy”? Online Talk
DESCRIPTION:– English version below – \nFast jede(r) Studierende kennt und nutzt sie: Sharing-Plattformen wie Airbnb\, Uber oder BlaBlaCar. Sie ermöglichen es jedem\, bisher professionalisierte Dienstleistungen auf privater Basis in einem weltweiten Netzwerk anzubieten – sozusagen als “globale Nachbarschaftshilfe”. Das Versprechen: günstige Preise\, wirtschaftliche Teilhabe für jedermann und persönliche Begegnung über Grenzen hinweg. \nAber hält die “Sharing Economy”\, was sie verspricht? Wer profitiert am Ende wirklich? Und wie verändern sich dadurch weltweite Wirtschafts- und Gesellschaftsbeziehungen? Diesen Fragen wollen wir auf den Grund gehen – nicht nur aus deutscher\, sondern auch aus chinesischer Perspektive. \nEin digitaler Gesprächsabend in unserer Reihe “Reflexion und Diskussion” mit Prof. Dr. Stefan Ouma\, Inhaber des Lehrstuhls für Wirtschaftsgeographie am Geographischen Institut der Universität Bayreuth. \nVortragssprache: Deutsch mit englischen Zusammenfassungen – Diskussionsbeiträge in beiden Sprachen möglich. \nZoom-Meeting beitreten\nhttps://uni-bayreuth.zoom.us/j/97364808958?pwd=Y1haakhPSCs0UnhkZFhGaysxSFBYdz09 \nMeeting-ID: 973 6480 8958\nPasswort: 34567 \nSchnelleinwahl mobil\n+496971049922\,\,97364808958#\,\,#\,34567# Deutschland\n+493056795800\,\,97364808958#\,\,#\,34567# Deutschland \nEinwahl nach aktuellem Standort\n+49 69 7104 9922 Deutschland\n+49 30 5679 5800 Deutschland\n+49 695 050 2596 Deutschland\nMeeting-ID: 973 6480 8958\nPasswort: 34567\nOrtseinwahl suchen: https://uni-bayreuth.zoom.us/u/abKc4fqarl \nÜber SIP beitreten\n97364808958@zoomcrc.com \nÜber H.323 beitreten\n162.255.37.11 (USA\nWesten)\n162.255.36.11 (USA\nOsten)\n213.19.144.110 (Europa\nNaher Osten und Afrika (EMEA))\n69.174.57.160 (Kanada)\n207.226.132.110 (Japan)\nPasswort: 34567\nMeeting-ID: 973 6480 8958 \nÜber Skype for Business beitreten\nhttps://uni-bayreuth.zoom.us/skype/97364808958 \n\n  \n– English version – \nAlmost every student knows and uses them: sharing platforms like Airbnb\, Uber or BlaBlaCar. They enable everyone to offer as yet professionalised services on a private basis in a global network – sort of a “global neighbourly help”. The promise: low prices\, economic participation for everyone and personal face-to-face encounter beyond borders. \nBut does the “sharing economy” keep its promises? Who profits in the end? And how do global economic and social relations change? We’re going to pursue these questions – not only from a German\, but also from a Chinese perspective. \nOnline discussion evening in our series “Reflection and discussion” with Prof. Dr. Stefan Ouma\, Chair of Economic Geography at Bayreuth University. \nLanguage: German with English translation\, contributions are possible in both languages. \nZoom-Meeting beitreten\nhttps://uni-bayreuth.zoom.us/j/97364808958?pwd=Y1haakhPSCs0UnhkZFhGaysxSFBYdz09 \nMeeting-ID: 973 6480 8958\nPasswort: 34567 \nchnelleinwahl mobil\n+496971049922\,\,97364808958#\,\,#\,34567# Deutschland\n+493056795800\,\,97364808958#\,\,#\,34567# Deutschland \nEinwahl nach aktuellem Standort\n+49 69 7104 9922 Deutschland\n+49 30 5679 5800 Deutschland\n+49 695 050 2596 Deutschland\nMeeting-ID: 973 6480 8958\nPasswort: 34567\nOrtseinwahl suchen: https://uni-bayreuth.zoom.us/u/abKc4fqarl \nÜber SIP beitreten\n97364808958@zoomcrc.com \nÜber H.323 beitreten\n162.255.37.11 (USA\nWesten)\n162.255.36.11 (USA\nOsten)\n213.19.144.110 (Europa\nNaher Osten und Afrika (EMEA))\n69.174.57.160 (Kanada)\n207.226.132.110 (Japan)\nPasswort: 34567\nMeeting-ID: 973 6480 8958 \nÜber Skype for Business beitreten\nhttps://uni-bayreuth.zoom.us/skype/97364808958
URL:https://www.khg-in-bayreuth.de/event/barabend-alles-gut-in-der-sharing-economy/
LOCATION:KHG Bayreuth\, Emil-Warburg-Weg 17\, KHG Bayreuth\, 95447\, Deutschland
END:VEVENT
END:VCALENDAR