BEGIN:VCALENDAR
VERSION:2.0
PRODID:-//KHG Bayreuth - ECPv6.15.3//NONSGML v1.0//EN
CALSCALE:GREGORIAN
METHOD:PUBLISH
X-WR-CALNAME:KHG Bayreuth
X-ORIGINAL-URL:https://www.khg-in-bayreuth.de
X-WR-CALDESC:Veranstaltungen für KHG Bayreuth
REFRESH-INTERVAL;VALUE=DURATION:PT1H
X-Robots-Tag:noindex
X-PUBLISHED-TTL:PT1H
BEGIN:VTIMEZONE
TZID:Europe/Berlin
BEGIN:DAYLIGHT
TZOFFSETFROM:+0100
TZOFFSETTO:+0200
TZNAME:CEST
DTSTART:20200329T010000
END:DAYLIGHT
BEGIN:STANDARD
TZOFFSETFROM:+0200
TZOFFSETTO:+0100
TZNAME:CET
DTSTART:20201025T010000
END:STANDARD
END:VTIMEZONE
BEGIN:VEVENT
DTSTART;TZID=Europe/Berlin:20200707T200000
DTEND;TZID=Europe/Berlin:20200707T213000
DTSTAMP:20260425T172642
CREATED:20200401T090745Z
LAST-MODIFIED:20200706T213416Z
UID:10004330-1594152000-1594157400@www.khg-in-bayreuth.de
SUMMARY:Yogaabend // Yoga evening
DESCRIPTION:Das Semester neigt sich langsam einem Ende zu und die Prüfungsphase steht vor der Tür.\nBevor wir uns aber in diese vermutlich stressige Zeit stürzen\, holen wir nochmal tief Luft und entspannen uns bei einem Yoga-Abend mit  Dr. XIN Audétat – Nie! – Es sind keine Vorkenntnisse nötig!  \nNach ca. einer Stunde Yoga laden wir anschließend tiefenentspannt noch zu einem gemeinsamen Quatschen ein\, je nach Anzahl der Menschen draußen oder an der Bar 😉  \nBitte bringt eure eigenen Matten/Unterlagen mit\, wir werden voraussichtlich im Roncalli-Saal sein. Bei zu vielen Interessenten werden wir auf die Wiese vor der KHG gehen. Vergesst eure Maske nicht und zieht euch nicht zu kühl an\, wir werden durchgehend lüften im Roncalli-Saal 😉 \nEnglish Version:\nSlowly the semester ends and the exams are coming. Before that we want to relax and take a deep breath to strengthen ourselves with a Yoga-Evening with Dr. XIN Audétat – Nie! – It is not necessary to know or do Yoga in advance\, beginners are warmly welcome! \nIt will take about one hour and afterwards everybody is invited to stay for an open evenging with talking end relaxing 🙂 \nPlease bring your own mats/towels. We will be in Roncalli-Saal or outside in front of KHG. Don’t forget your masks!
URL:https://www.khg-in-bayreuth.de/event/barabend-fernwehabend/
LOCATION:KHG Bayreuth\, Emil-Warburg-Weg 17\, KHG Bayreuth\, 95447\, Deutschland
END:VEVENT
END:VCALENDAR