BEGIN:VCALENDAR
VERSION:2.0
PRODID:-//KHG Bayreuth - ECPv6.15.3//NONSGML v1.0//EN
CALSCALE:GREGORIAN
METHOD:PUBLISH
X-WR-CALNAME:KHG Bayreuth
X-ORIGINAL-URL:https://www.khg-in-bayreuth.de
X-WR-CALDESC:Veranstaltungen für KHG Bayreuth
REFRESH-INTERVAL;VALUE=DURATION:PT1H
X-Robots-Tag:noindex
X-PUBLISHED-TTL:PT1H
BEGIN:VTIMEZONE
TZID:Europe/Berlin
BEGIN:DAYLIGHT
TZOFFSETFROM:+0100
TZOFFSETTO:+0200
TZNAME:CEST
DTSTART:20200329T010000
END:DAYLIGHT
BEGIN:STANDARD
TZOFFSETFROM:+0200
TZOFFSETTO:+0100
TZNAME:CET
DTSTART:20201025T010000
END:STANDARD
END:VTIMEZONE
BEGIN:VEVENT
DTSTART;TZID=Europe/Berlin:20200712T190000
DTEND;TZID=Europe/Berlin:20200712T200000
DTSTAMP:20260425T173236
CREATED:20200403T122002Z
LAST-MODIFIED:20200709T233119Z
UID:10004365-1594580400-1594584000@www.khg-in-bayreuth.de
SUMMARY:"Herausforderung: Freiheit" (Zoom-Gottesdienst) // "Freedom as a Challenge" (religious service via Zoom)
DESCRIPTION:Unser letzter Zoom-Gottesdienst in diesem Semester steht unter dem Thema “Herausforderung: Freiheit”. Und Du bist frei darin\, ihn mitzugestalten – nämlich so: https://www.khg-in-bayreuth.de/herausforderung-freiheit/ \nHerzliche Einladung zur Mitfeier des Gottesdienstes unter folgendem Link: \nhttps://uni-bayreuth.zoom.us/j/95891227013?pwd=dXRlekJvTk1lSUVxblFpYnZ0Um55QT09 \nMeeting-ID: 958 9122 7013 // Passwort: 114937 \n  \n\nOur last Zoom service for this semester will be on the topic “Freedom as a Challenge”. And you are free to shape it – here’s how: https://www.khg-in-bayreuth.de/herausforderung-freiheit/ \nYou are welcome to celebrate with us under the following link:  \nhttps://uni-bayreuth.zoom.us/j/95891227013?pwd=dXRlekJvTk1lSUVxblFpYnZ0Um55QT09 \nMeeting-ID: 958 9122 7013 // Passwort: 114937 \n 
URL:https://www.khg-in-bayreuth.de/event/eucharistiefeier-holy-mass-18-2020-07-05/
LOCATION:KHG Bayreuth\, Emil-Warburg-Weg 17\, KHG Bayreuth\, 95447\, Deutschland
END:VEVENT
END:VCALENDAR