BEGIN:VCALENDAR
VERSION:2.0
PRODID:-//KHG Bayreuth - ECPv6.15.3//NONSGML v1.0//EN
CALSCALE:GREGORIAN
METHOD:PUBLISH
X-ORIGINAL-URL:https://www.khg-in-bayreuth.de
X-WR-CALDESC:Veranstaltungen für KHG Bayreuth
REFRESH-INTERVAL;VALUE=DURATION:PT1H
X-Robots-Tag:noindex
X-PUBLISHED-TTL:PT1H
BEGIN:VTIMEZONE
TZID:Europe/Berlin
BEGIN:DAYLIGHT
TZOFFSETFROM:+0100
TZOFFSETTO:+0200
TZNAME:CEST
DTSTART:20200329T010000
END:DAYLIGHT
BEGIN:STANDARD
TZOFFSETFROM:+0200
TZOFFSETTO:+0100
TZNAME:CET
DTSTART:20201025T010000
END:STANDARD
END:VTIMEZONE
BEGIN:VEVENT
DTSTART;TZID=Europe/Berlin:20200721T193000
DTEND;TZID=Europe/Berlin:20200721T203000
DTSTAMP:20260425T174053
CREATED:20200401T093256Z
LAST-MODIFIED:20200720T175400Z
UID:10004332-1595359800-1595363400@www.khg-in-bayreuth.de
SUMMARY:Ökum. Semesterschlussgottesdienst mit dem Gospelchor / Ecumenical end-of-semester service with the gospel choir
DESCRIPTION:Endlich wieder live – wir feiern Semesterschlussgottesdienst (SemSchluGo) vor der KHG! Unser ökumenischer Gospelchor wird uns wie immer schwungvoll begleiten. \nUnter dem Thema “FAZIT” wollen wir Rückschau auf dieses sehr spezielle Semester halten und zugleich einen hoffnungsvollen Blick nach vorne wagen.  \nEin besonderes Fazit wird auch unser Gastprediger\, Dekan Dr. Zerndl ziehen\, den wir in diesem Gottesdienst zugleich als Mit-Seelsorgenden in der KHG verabschieden. \nUnd last but not least: Anschließend laden wir wieder sehr herzlich ein zum Pizzaessen! \n– English version – \nLive again – we celebrate end-of-term service outside KHG! Our ecumenical Gospel Choir will inspire us with swinging music as usual. \nUnder the theme “FAZIT” (conclusion)\, we’re going to look back on this very special semester and at the same time look forward full of hope. \nA very special “Fazit” will be drawn by our guest preacher\, Deacon Dr. Zerndl\, to whom we’re going to bid farewell in this service. \nLast but not least: Afterwards\, you’re cordially invited to eat pizza with us!
URL:https://www.khg-in-bayreuth.de/event/oekum-semesterschlussgottesdienst-mit-dem-gospelchor-2/
LOCATION:KHG Bayreuth\, Emil-Warburg-Weg 17\, KHG Bayreuth\, 95447\, Deutschland
END:VEVENT
END:VCALENDAR