BEGIN:VCALENDAR
VERSION:2.0
PRODID:-//KHG Bayreuth - ECPv6.15.3//NONSGML v1.0//EN
CALSCALE:GREGORIAN
METHOD:PUBLISH
X-ORIGINAL-URL:https://www.khg-in-bayreuth.de
X-WR-CALDESC:Veranstaltungen für KHG Bayreuth
REFRESH-INTERVAL;VALUE=DURATION:PT1H
X-Robots-Tag:noindex
X-PUBLISHED-TTL:PT1H
BEGIN:VTIMEZONE
TZID:Europe/Berlin
BEGIN:DAYLIGHT
TZOFFSETFROM:+0100
TZOFFSETTO:+0200
TZNAME:CEST
DTSTART:20200329T010000
END:DAYLIGHT
BEGIN:STANDARD
TZOFFSETFROM:+0200
TZOFFSETTO:+0100
TZNAME:CET
DTSTART:20201025T010000
END:STANDARD
END:VTIMEZONE
BEGIN:VEVENT
DTSTART;TZID=Europe/Berlin:20200728T193000
DTEND;TZID=Europe/Berlin:20200728T220000
DTSTAMP:20260425T155644
CREATED:20200727T233749Z
LAST-MODIFIED:20200727T233749Z
UID:10004399-1595964600-1595973600@www.khg-in-bayreuth.de
SUMMARY:Spontaner Lagerfeuerabend // spontaneous campfire evening
DESCRIPTION:Die Vorlesungen sind zwar für viele schon zu Ende\, dennoch hatten einige von Euch Lust\, den Dienstagabend noch einmal gemeinsam zu verbringen. Wir treffen uns zu einem spontanen Lagerfeuerabend! Falls Ihr Lust habt\, bringt gerne Lagerfeuerlieder\, Instrumente\, Stockbrotteig und Stöcke\, Marshmallows … mit! \n\nAlthough the lectures are over for many of you\, some of you felt like spending the Tuesday evening together one more time. We meet for a spontaneous campfire evening! If you feel like it\, bring campfire songs\, instruments\, bread dough and sticks\, marshmallows … !
URL:https://www.khg-in-bayreuth.de/event/spontaner-lagerfeuerabend-spontaneous-campfire-evening/
LOCATION:KHG Bayreuth\, Emil-Warburg-Weg 17\, KHG Bayreuth\, 95447\, Deutschland
END:VEVENT
END:VCALENDAR