BEGIN:VCALENDAR
VERSION:2.0
PRODID:-//KHG Bayreuth - ECPv6.15.3//NONSGML v1.0//EN
CALSCALE:GREGORIAN
METHOD:PUBLISH
X-ORIGINAL-URL:https://www.khg-in-bayreuth.de
X-WR-CALDESC:Veranstaltungen für KHG Bayreuth
REFRESH-INTERVAL;VALUE=DURATION:PT1H
X-Robots-Tag:noindex
X-PUBLISHED-TTL:PT1H
BEGIN:VTIMEZONE
TZID:Europe/Berlin
BEGIN:DAYLIGHT
TZOFFSETFROM:+0100
TZOFFSETTO:+0200
TZNAME:CEST
DTSTART:20210328T010000
END:DAYLIGHT
BEGIN:STANDARD
TZOFFSETFROM:+0200
TZOFFSETTO:+0100
TZNAME:CET
DTSTART:20211031T010000
END:STANDARD
END:VTIMEZONE
BEGIN:VEVENT
DTSTART;TZID=Europe/Berlin:20210112T190000
DTEND;TZID=Europe/Berlin:20210112T200000
DTSTAMP:20260425T060220
CREATED:20201221T194109Z
LAST-MODIFIED:20210107T181151Z
UID:10004456-1610478000-1610481600@www.khg-in-bayreuth.de
SUMMARY:Gottesdienst zum Neuen Jahr am Feuer // New Year's service at the fire
DESCRIPTION:Wir treffen uns am Feuer vor der KHG\, um gemeinsam mit einem Gottesdienst ins neue Jahr zu starten. \nAchtung: Wegen der Corona-Sperrstunde um 21.00 Uhr treffen wir uns eine Stunde früher\, also schon um 19.00 Uhr! \nIm Anschluss gibt es alkoholfreien Punsch to go\, bitte Tassen mitbringen! \n\nWe meet at the fire in front of KHG\, in order to start into the New Year with a prayer service. \nPlease note: Due to the lockdown\, we need to start earlier (at 7 pm)\, so that everyone can be home at 9 pm. \nAfterwards\, there’ll be alcohol-free punch to go\, please bring your cups!
URL:https://www.khg-in-bayreuth.de/event/gottesdienst-zum-neuen-jahr-am-feuer-new-years-service-at-the-fire/
LOCATION:KHG Bayreuth\, Emil-Warburg-Weg 17\, KHG Bayreuth\, 95447\, Deutschland
END:VEVENT
END:VCALENDAR