BEGIN:VCALENDAR
VERSION:2.0
PRODID:-//KHG Bayreuth - ECPv6.15.3//NONSGML v1.0//EN
CALSCALE:GREGORIAN
METHOD:PUBLISH
X-WR-CALNAME:KHG Bayreuth
X-ORIGINAL-URL:https://www.khg-in-bayreuth.de
X-WR-CALDESC:Veranstaltungen für KHG Bayreuth
REFRESH-INTERVAL;VALUE=DURATION:PT1H
X-Robots-Tag:noindex
X-PUBLISHED-TTL:PT1H
BEGIN:VTIMEZONE
TZID:Europe/Berlin
BEGIN:DAYLIGHT
TZOFFSETFROM:+0100
TZOFFSETTO:+0200
TZNAME:CEST
DTSTART:20210328T010000
END:DAYLIGHT
BEGIN:STANDARD
TZOFFSETFROM:+0200
TZOFFSETTO:+0100
TZNAME:CET
DTSTART:20211031T010000
END:STANDARD
END:VTIMEZONE
BEGIN:VEVENT
DTSTART;TZID=Europe/Berlin:20210115T070000
DTEND;TZID=Europe/Berlin:20210115T073000
DTSTAMP:20260425T060509
CREATED:20201211T073539Z
LAST-MODIFIED:20210205T123444Z
UID:10004450-1610694000-1610695800@www.khg-in-bayreuth.de
SUMMARY:Online-Frühschicht / Morning prayer online
DESCRIPTION:Wegen der aktuellen Infektionslage findet die Frühschicht online via Zoom statt. Wählt euch hier ein: \nhttps://uni-bayreuth.zoom.us/j/95891227013?pwd=dXRlekJvTk1lSUVxblFpYnZ0Um55QT09#success \n———- \nDue to the current Covid situation\, morning prayer will be online via Zoom. \nJoin us here: https://uni-bayreuth.zoom.us/j/95891227013?pwd=dXRlekJvTk1lSUVxblFpYnZ0Um55QT09#success
URL:https://www.khg-in-bayreuth.de/event/fruehschicht-67-2021-01-15/2021-01-15/
LOCATION:Online via Zoom\, Deutschland
END:VEVENT
END:VCALENDAR