BEGIN:VCALENDAR
VERSION:2.0
PRODID:-//KHG Bayreuth - ECPv6.15.3//NONSGML v1.0//EN
CALSCALE:GREGORIAN
METHOD:PUBLISH
X-ORIGINAL-URL:https://www.khg-in-bayreuth.de
X-WR-CALDESC:Veranstaltungen für KHG Bayreuth
REFRESH-INTERVAL;VALUE=DURATION:PT1H
X-Robots-Tag:noindex
X-PUBLISHED-TTL:PT1H
BEGIN:VTIMEZONE
TZID:Europe/Berlin
BEGIN:DAYLIGHT
TZOFFSETFROM:+0100
TZOFFSETTO:+0200
TZNAME:CEST
DTSTART:20210328T010000
END:DAYLIGHT
BEGIN:STANDARD
TZOFFSETFROM:+0200
TZOFFSETTO:+0100
TZNAME:CET
DTSTART:20211031T010000
END:STANDARD
END:VTIMEZONE
BEGIN:VEVENT
DTSTART;TZID=Europe/Berlin:20210120T123000
DTEND;TZID=Europe/Berlin:20210120T130000
DTSTAMP:20260425T060601
CREATED:20201222T013559Z
LAST-MODIFIED:20201222T013559Z
UID:10004458-1611145800-1611147600@www.khg-in-bayreuth.de
SUMMARY:Spirituelle Mittagspause in der KHG-Kapelle
DESCRIPTION:Wir treffen uns mittwochs um 12.30 Uhr zu einem spirituellen Impuls in der KHG-Kapelle\, natürlich unter Beachtung der aktuellen Hygieneregeln. Die anschließende Mittagssuppe muss leider bis auf weiteres entfallen. \nWe meet every Wednesday at 12.30 for a short spiritual impulse in the KHG chapel\, observing the current hygiene regulations\, of course. Unfortunately\, the subsequent lunch soup cannot take place at the moment.
URL:https://www.khg-in-bayreuth.de/event/spirituelle-mittagspause-in-der-khg-kapelle/2021-01-20/
LOCATION:KHG Kapelle
END:VEVENT
END:VCALENDAR