BEGIN:VCALENDAR
VERSION:2.0
PRODID:-//KHG Bayreuth - ECPv6.15.3//NONSGML v1.0//EN
CALSCALE:GREGORIAN
METHOD:PUBLISH
X-WR-CALNAME:KHG Bayreuth
X-ORIGINAL-URL:https://www.khg-in-bayreuth.de
X-WR-CALDESC:Veranstaltungen für KHG Bayreuth
REFRESH-INTERVAL;VALUE=DURATION:PT1H
X-Robots-Tag:noindex
X-PUBLISHED-TTL:PT1H
BEGIN:VTIMEZONE
TZID:Europe/Berlin
BEGIN:DAYLIGHT
TZOFFSETFROM:+0100
TZOFFSETTO:+0200
TZNAME:CEST
DTSTART:20210328T010000
END:DAYLIGHT
BEGIN:STANDARD
TZOFFSETFROM:+0200
TZOFFSETTO:+0100
TZNAME:CET
DTSTART:20211031T010000
END:STANDARD
END:VTIMEZONE
BEGIN:VEVENT
DTSTART;TZID=Europe/Berlin:20210202T180000
DTEND;TZID=Europe/Berlin:20210202T220000
DTSTAMP:20260425T043301
CREATED:20201125T140758Z
LAST-MODIFIED:20210129T183824Z
UID:10004439-1612288800-1612303200@www.khg-in-bayreuth.de
SUMMARY:Planungsnacht / planning night
DESCRIPTION:Auch die KHG-Planungsnacht muss diesmal online stattfinden. Wir hoffen aber auf ein Lockdown-freies Sommersemester und suchen dafür viele tolle Ideen – besonders Deine! \nDu kannst sie schon vorab hier einbringen! \nEinwahldaten für das Zoom-Meeting am Dienstag: \nhttps://uni-bayreuth.zoom.us/j/98858583801?pwd=dGhlOTlFWHQ2cUthYjFncXBHMnVFQT09 \nMeeting-ID: 988 5858 3801\nKenncode: 560013 \n—– \nThe KHG planning night also has to take place online this time. However\, we hope for a lockdown-free summer semester and are looking for lots of great ideas – especially yours! \nYou can submit them in advance here! \nDial-in details for Tuesday’s Zoom meeting: \nhttps://uni-bayreuth.zoom.us/j/98858583801?pwd=dGhlOTlFWHQ2cUthYjFncXBHMnVFQT09 \nMeeting ID: 988 5858 3801\nID code: 560013
URL:https://www.khg-in-bayreuth.de/event/planungsnacht-3/
LOCATION:KHG Bayreuth\, Emil-Warburg-Weg 17\, KHG Bayreuth\, 95447\, Deutschland
END:VEVENT
END:VCALENDAR