BEGIN:VCALENDAR
VERSION:2.0
PRODID:-//KHG Bayreuth - ECPv6.15.3//NONSGML v1.0//EN
CALSCALE:GREGORIAN
METHOD:PUBLISH
X-WR-CALNAME:KHG Bayreuth
X-ORIGINAL-URL:https://www.khg-in-bayreuth.de
X-WR-CALDESC:Veranstaltungen für KHG Bayreuth
REFRESH-INTERVAL;VALUE=DURATION:PT1H
X-Robots-Tag:noindex
X-PUBLISHED-TTL:PT1H
BEGIN:VTIMEZONE
TZID:Europe/Berlin
BEGIN:DAYLIGHT
TZOFFSETFROM:+0100
TZOFFSETTO:+0200
TZNAME:CEST
DTSTART:20210328T010000
END:DAYLIGHT
BEGIN:STANDARD
TZOFFSETFROM:+0200
TZOFFSETTO:+0100
TZNAME:CET
DTSTART:20211031T010000
END:STANDARD
END:VTIMEZONE
BEGIN:VEVENT
DTSTART;TZID=Europe/Berlin:20210413T200000
DTEND;TZID=Europe/Berlin:20210413T220000
DTSTAMP:20260424T234849
CREATED:20210331T121743Z
LAST-MODIFIED:20210412T124950Z
UID:10004474-1618344000-1618351200@www.khg-in-bayreuth.de
SUMMARY:Online-Brettspieleabend//Board games evening- online
DESCRIPTION:-English version below – \nSpiele- und Kennenlernabend für Erstsemester und “ältere Semester” \nAm Dienstag\, 13.04.21\, ist es wieder soweit: Unser Spieleabend findet in gewohnt lockerer Atmosphäre\, dieses Mal aber online über Zoom statt: Ihr könnt Euch auf viele digitale Brett- und Gesellschaftsspiele freuen. Eigene Vorschläge sind ebenfalls willkommen und können gerne spontan mit eingebracht werden. Hier der Zoom-Link: \nEinwahldaten:\nhttps://uni-bayreuth.zoom.us/j/98858583801?pwd=dGhlOTlFWHQ2cUthYjFncXBHMnVFQT09 \nMeeting-ID: 988 5858 3801\nKenncode: 560013 \nWir freuen uns auf viele Teilnehmer:innen! \n___________________________________________________________________ \nMeet and game evening for first semesters and everyone interested \nOn Tuesday\, 13.04.21\, it’s “that time” again: Our games evening will take place in the usual relaxed atmosphere\, but this time online via Zoom. You can look forward to many digital board and parlour games. Your own suggestions are also welcome and can be brought in spontaneously. Here you find the Zoom link: \nhttps://uni-bayreuth.zoom.us/j/98858583801?pwd=dGhlOTlFWHQ2cUthYjFncXBHMnVFQT09 \nMeeting-ID: 988 5858 3801\nKenncode: 560013 \nWe’re looking forward to seeing many new and “old” faces!
URL:https://www.khg-in-bayreuth.de/event/online-brettspieleabend-online-board-games-evening/
LOCATION:KHG Bayreuth\, Emil-Warburg-Weg 17\, KHG Bayreuth\, 95447\, Deutschland
END:VEVENT
END:VCALENDAR