BEGIN:VCALENDAR
VERSION:2.0
PRODID:-//KHG Bayreuth - ECPv6.15.3//NONSGML v1.0//EN
CALSCALE:GREGORIAN
METHOD:PUBLISH
X-WR-CALNAME:KHG Bayreuth
X-ORIGINAL-URL:https://www.khg-in-bayreuth.de
X-WR-CALDESC:Veranstaltungen für KHG Bayreuth
REFRESH-INTERVAL;VALUE=DURATION:PT1H
X-Robots-Tag:noindex
X-PUBLISHED-TTL:PT1H
BEGIN:VTIMEZONE
TZID:Europe/Berlin
BEGIN:DAYLIGHT
TZOFFSETFROM:+0100
TZOFFSETTO:+0200
TZNAME:CEST
DTSTART:20210328T010000
END:DAYLIGHT
BEGIN:STANDARD
TZOFFSETFROM:+0200
TZOFFSETTO:+0100
TZNAME:CET
DTSTART:20211031T010000
END:STANDARD
END:VTIMEZONE
BEGIN:VEVENT
DTSTART;TZID=Europe/Berlin:20210416T070000
DTEND;TZID=Europe/Berlin:20210416T073000
DTSTAMP:20260424T234855
CREATED:20210407T112442Z
LAST-MODIFIED:20210414T155336Z
UID:10004484-1618556400-1618558200@www.khg-in-bayreuth.de
SUMMARY:Online Frühschicht // Morning prayer
DESCRIPTION:Freitagsmorgens treffen wir uns während der Vorlesungszeit um 07:00 Uhr zu einer kurzen Morgenandacht. Solange wir uns aufgrund des Corona-Virus und den damit verbundenen Kontakt- und Veranstaltungsverboten nicht in der KHG treffen können\, werden wir die Frühschicht online über Zoom feiern. \nZugang zur Online-Frühschicht ist über folgenden Link möglich: \nhttps://uni-bayreuth.zoom.us/j/95891227013?pwd=dXRlekJvTk1lSUVxblFpYnZ0Um55QT09 \n______________________________________________________________________ \nOn Friday mornings during the lecture period we meet at 07:00 for a short morning prayer. As long as we can’t meet in the KHG due to the Corona virus and the associated contact and event bans\, we will celebrate the “early shift” morning prayer online via Zoom. \nAccess to the online early shift is possible via the following link: \nhttps://uni-bayreuth.zoom.us/j/95891227013?pwd=dXRlekJvTk1lSUVxblFpYnZ0Um55QT09
URL:https://www.khg-in-bayreuth.de/event/fruehschicht-morning-prayer-4/
LOCATION:KHG Bayreuth\, Emil-Warburg-Weg 17\, KHG Bayreuth\, 95447\, Deutschland
END:VEVENT
END:VCALENDAR