BEGIN:VCALENDAR
VERSION:2.0
PRODID:-//KHG Bayreuth - ECPv6.15.3//NONSGML v1.0//EN
CALSCALE:GREGORIAN
METHOD:PUBLISH
X-ORIGINAL-URL:https://www.khg-in-bayreuth.de
X-WR-CALDESC:Veranstaltungen für KHG Bayreuth
REFRESH-INTERVAL;VALUE=DURATION:PT1H
X-Robots-Tag:noindex
X-PUBLISHED-TTL:PT1H
BEGIN:VTIMEZONE
TZID:Europe/Berlin
BEGIN:DAYLIGHT
TZOFFSETFROM:+0100
TZOFFSETTO:+0200
TZNAME:CEST
DTSTART:20210328T010000
END:DAYLIGHT
BEGIN:STANDARD
TZOFFSETFROM:+0200
TZOFFSETTO:+0100
TZNAME:CET
DTSTART:20211031T010000
END:STANDARD
END:VTIMEZONE
BEGIN:VEVENT
DTSTART;TZID=Europe/Berlin:20210609T194500
DTEND;TZID=Europe/Berlin:20210609T213000
DTSTAMP:20260424T175949
CREATED:20210531T211638Z
LAST-MODIFIED:20210531T211638Z
UID:10004502-1623267900-1623274200@www.khg-in-bayreuth.de
SUMMARY:Gospelchor / Gospel Choir
DESCRIPTION:Lust auf Singen? Unser ökumenischer Gospelchor probt wieder live in der KHG! Natürlich mit strengem Hygienekonzept. \nFür nähere Infos schreibt an: gospelchor.bayreuth@web.de \n\nFeel like singing? Our ecumenical Gospel Choir is rehearsing live at KHG again! With a strict hygiene concept\, of course. \nFor further information write to: gospelchor.bayreuth@web.de
URL:https://www.khg-in-bayreuth.de/event/gospelchor-gospel-choir/2021-06-09/
LOCATION:KHG Bayreuth\, Emil-Warburg-Weg 17\, KHG Bayreuth\, 95447\, Deutschland
END:VEVENT
END:VCALENDAR