BEGIN:VCALENDAR
VERSION:2.0
PRODID:-//KHG Bayreuth - ECPv6.15.3//NONSGML v1.0//EN
CALSCALE:GREGORIAN
METHOD:PUBLISH
X-ORIGINAL-URL:https://www.khg-in-bayreuth.de
X-WR-CALDESC:Veranstaltungen für KHG Bayreuth
REFRESH-INTERVAL;VALUE=DURATION:PT1H
X-Robots-Tag:noindex
X-PUBLISHED-TTL:PT1H
BEGIN:VTIMEZONE
TZID:Europe/Berlin
BEGIN:DAYLIGHT
TZOFFSETFROM:+0100
TZOFFSETTO:+0200
TZNAME:CEST
DTSTART:20210328T010000
END:DAYLIGHT
BEGIN:STANDARD
TZOFFSETFROM:+0200
TZOFFSETTO:+0100
TZNAME:CET
DTSTART:20211031T010000
END:STANDARD
END:VTIMEZONE
BEGIN:VEVENT
DTSTART;TZID=Europe/Berlin:20210610T200000
DTEND;TZID=Europe/Berlin:20210610T220000
DTSTAMP:20260424T192811
CREATED:20210414T093840Z
LAST-MODIFIED:20210601T003917Z
UID:10004498-1623355200-1623362400@www.khg-in-bayreuth.de
SUMMARY:Deutschlandweites Online-Pub Quiz der Hochschulgemeinden / German-wide online Pub Quiz of University Chaplaincies
DESCRIPTION:Der zweite bundesweite Showdown der Hochschulgemeinden: Und wir verteidigen unseren Titel! \nSei dabei – melde Dich an bei Barbara unter barbara.goeb@erzbistum-bamberg.de oder per WhatsApp! \n_________________________________________________________ \nThe second nationwide showdown of college communities: And we defend our title! \nBe there – register with Barbara via e-Mail to barbara.goeb@erzbistum-bamberg.de or via WhatsApp!
URL:https://www.khg-in-bayreuth.de/event/online-pub-quiz-der-bay-hochschulgemeinden/
LOCATION:KHG Bayreuth\, Emil-Warburg-Weg 17\, KHG Bayreuth\, 95447\, Deutschland
END:VEVENT
END:VCALENDAR