BEGIN:VCALENDAR
VERSION:2.0
PRODID:-//KHG Bayreuth - ECPv6.15.3//NONSGML v1.0//EN
CALSCALE:GREGORIAN
METHOD:PUBLISH
X-ORIGINAL-URL:https://www.khg-in-bayreuth.de
X-WR-CALDESC:Veranstaltungen für KHG Bayreuth
REFRESH-INTERVAL;VALUE=DURATION:PT1H
X-Robots-Tag:noindex
X-PUBLISHED-TTL:PT1H
BEGIN:VTIMEZONE
TZID:Europe/Berlin
BEGIN:DAYLIGHT
TZOFFSETFROM:+0100
TZOFFSETTO:+0200
TZNAME:CEST
DTSTART:20210328T010000
END:DAYLIGHT
BEGIN:STANDARD
TZOFFSETFROM:+0200
TZOFFSETTO:+0100
TZNAME:CET
DTSTART:20211031T010000
END:STANDARD
END:VTIMEZONE
BEGIN:VEVENT
DTSTART;TZID=Europe/Berlin:20210622T200000
DTEND;TZID=Europe/Berlin:20210622T220000
DTSTAMP:20260424T205747
CREATED:20210407T115648Z
LAST-MODIFIED:20210622T142354Z
UID:10004496-1624392000-1624399200@www.khg-in-bayreuth.de
SUMMARY:African Night. Afrikanischer Gesprächsabend im Roncalli-Saal der KHG // African Night. African talk evening in the Roncalli Hall
DESCRIPTION:Unsere afrikanischen Studierenden gestalten einen Gesprächsabend zum Thema “Language and Identity in African Societies” – in englischer Sprache. Willkommen! \n\nOur African students invite us to a talk evening on the topic of “Language and Identiy in African Societies” – in English. Welcome!
URL:https://www.khg-in-bayreuth.de/event/african-night-afrikanischer-kulturabend-im-roncalli-saal-der-khg-african-night-african-cultural-evening-in-the-roncalli-hall/
LOCATION:KHG Bayreuth\, Emil-Warburg-Weg 17\, KHG Bayreuth\, 95447\, Deutschland
END:VEVENT
END:VCALENDAR