BEGIN:VCALENDAR
VERSION:2.0
PRODID:-//KHG Bayreuth - ECPv6.15.3//NONSGML v1.0//EN
CALSCALE:GREGORIAN
METHOD:PUBLISH
X-ORIGINAL-URL:https://www.khg-in-bayreuth.de
X-WR-CALDESC:Veranstaltungen für KHG Bayreuth
REFRESH-INTERVAL;VALUE=DURATION:PT1H
X-Robots-Tag:noindex
X-PUBLISHED-TTL:PT1H
BEGIN:VTIMEZONE
TZID:Europe/Berlin
BEGIN:DAYLIGHT
TZOFFSETFROM:+0100
TZOFFSETTO:+0200
TZNAME:CEST
DTSTART:20210328T010000
END:DAYLIGHT
BEGIN:STANDARD
TZOFFSETFROM:+0200
TZOFFSETTO:+0100
TZNAME:CET
DTSTART:20211031T010000
END:STANDARD
END:VTIMEZONE
BEGIN:VEVENT
DTSTART;TZID=Europe/Berlin:20210713T200000
DTEND;TZID=Europe/Berlin:20210713T220000
DTSTAMP:20260424T162101
CREATED:20210701T192047Z
LAST-MODIFIED:20210701T192047Z
UID:10004524-1626206400-1626213600@www.khg-in-bayreuth.de
SUMMARY:Spontanabend // Spontaneous evening
DESCRIPTION:Was an diesem letzten KHG-Barabend des Semesters geschieht\, liegt an Euch: Wir können Spiele spielen\, kochen\, grillen\, kreativ sein oder einfach nur ratschen … \n\nWhat happens on this last KHG bar evening of the semester is up to you: We can play games\, cook\, barbecue\, be creative or just chat …
URL:https://www.khg-in-bayreuth.de/event/spontanabend-spontaneous-evening-2/
LOCATION:KHG Bayreuth\, Emil-Warburg-Weg 17\, KHG Bayreuth\, 95447\, Deutschland
END:VEVENT
END:VCALENDAR