BEGIN:VCALENDAR
VERSION:2.0
PRODID:-//KHG Bayreuth - ECPv6.15.3//NONSGML v1.0//EN
CALSCALE:GREGORIAN
METHOD:PUBLISH
X-WR-CALNAME:KHG Bayreuth
X-ORIGINAL-URL:https://www.khg-in-bayreuth.de
X-WR-CALDESC:Veranstaltungen für KHG Bayreuth
REFRESH-INTERVAL;VALUE=DURATION:PT1H
X-Robots-Tag:noindex
X-PUBLISHED-TTL:PT1H
BEGIN:VTIMEZONE
TZID:Europe/Berlin
BEGIN:DAYLIGHT
TZOFFSETFROM:+0100
TZOFFSETTO:+0200
TZNAME:CEST
DTSTART:20210328T010000
END:DAYLIGHT
BEGIN:STANDARD
TZOFFSETFROM:+0200
TZOFFSETTO:+0100
TZNAME:CET
DTSTART:20211031T010000
END:STANDARD
END:VTIMEZONE
BEGIN:VEVENT
DTSTART;TZID=Europe/Berlin:20210715T180000
DTEND;TZID=Europe/Berlin:20210715T220000
DTSTAMP:20260424T175700
CREATED:20210531T215306Z
LAST-MODIFIED:20210617T172130Z
UID:10004513-1626372000-1626386400@www.khg-in-bayreuth.de
SUMMARY:Swahili Chor / Suahili Choir
DESCRIPTION:Unser “Swahili Chor Bayreuth” probt wieder live vor der KHG! Damit alle gesund bleiben\, natürlich mit strengem Hygienekonzept. Nähere Infos unter: swahili.chor.bayreuth@gmail.com \n\nOur “Suahili Choir Bayreuth” is rehearsing live again outside KHG! With strict hygiene concept\, of course\, so that everyone stays safe. Further information here: swahili.chor.bayreuth@gmail.com
URL:https://www.khg-in-bayreuth.de/event/swahili-chor-suahili-choir-2021-06-17/2021-07-15/
LOCATION:KHG Bayreuth\, Emil-Warburg-Weg 17\, KHG Bayreuth\, 95447\, Deutschland
END:VEVENT
END:VCALENDAR