BEGIN:VCALENDAR
VERSION:2.0
PRODID:-//KHG Bayreuth - ECPv6.15.3//NONSGML v1.0//EN
CALSCALE:GREGORIAN
METHOD:PUBLISH
X-WR-CALNAME:KHG Bayreuth
X-ORIGINAL-URL:https://www.khg-in-bayreuth.de
X-WR-CALDESC:Veranstaltungen für KHG Bayreuth
REFRESH-INTERVAL;VALUE=DURATION:PT1H
X-Robots-Tag:noindex
X-PUBLISHED-TTL:PT1H
BEGIN:VTIMEZONE
TZID:Europe/Berlin
BEGIN:DAYLIGHT
TZOFFSETFROM:+0100
TZOFFSETTO:+0200
TZNAME:CEST
DTSTART:20210328T010000
END:DAYLIGHT
BEGIN:STANDARD
TZOFFSETFROM:+0200
TZOFFSETTO:+0100
TZNAME:CET
DTSTART:20211031T010000
END:STANDARD
END:VTIMEZONE
BEGIN:VEVENT
DTSTART;TZID=Europe/Berlin:20211001T183000
DTEND;TZID=Europe/Berlin:20211001T213000
DTSTAMP:20260424T112512
CREATED:20210928T180515Z
LAST-MODIFIED:20210928T181054Z
UID:10004552-1633113000-1633123800@www.khg-in-bayreuth.de
SUMMARY:Deutsch-Chinesischer Stammtisch: Hotpot-Abend // Hotpot Evening
DESCRIPTION:– English version below –\n\nUnser deutsch-chinesischer Stammtisch startet ins Wintersemester mit einem leckeren Hotpot-Abend! “Hotpot” ist ein chinesisches Suppenfondue. Jeder kann selbst bestimmen\, welche Zutaten er in der Suppe kochen und anschließend essen möchte: Fleisch\, Fisch oder Gemüse …\n\nBitte meldet Euch an: bis Mittwoch\, 29. September\, 12.00 Uhr per e-Mail an khg@uni-bayreuth.de!\nUnkostenbeitrag: 5\,- €\n\nZur Zeit gilt in Bayreuth für alle Veranstaltungen die 3G-Regel. Bitte bringt einen Nachweis mit\, dass Ihr geimpft\, genesen oder getestet seid!\n\n– English version –\n\nInterested in the Chinese eating culture?\nWant to enjoy one of the most popular Chinese cuisine?\nLooking forward to meeting different people and having a wonderful evening?\nCome and join us! You’ll have a warm start for the Wintersemester!\nHotpot: A cooking method that originates from China\, prepared with a simmering pot of soup stock at the dining table\, containing a variety of East Asian foodstuffs and ingredients.\nWe can also make it vegetarian\n\nPlease register: by Wednesday\, 29th September\, 12.00 hrs\, via e-mail to: khg@uni-bayreuth.de !\nContribution towards expenses: 5\,- €\n\nPlease note: At the Moment\, the “3G rule” is in place in Bayreuth. Please bring proof of Covid test\, recovery or vaccination!
URL:https://www.khg-in-bayreuth.de/event/deutsch-chinesischer-stammtisch-hotpot-abend-hotpot-evening/
LOCATION:KHG Bayreuth\, Emil-Warburg-Weg 17\, KHG Bayreuth\, 95447\, Deutschland
END:VEVENT
END:VCALENDAR