BEGIN:VCALENDAR
VERSION:2.0
PRODID:-//KHG Bayreuth - ECPv6.15.3//NONSGML v1.0//EN
CALSCALE:GREGORIAN
METHOD:PUBLISH
X-ORIGINAL-URL:https://www.khg-in-bayreuth.de
X-WR-CALDESC:Veranstaltungen für KHG Bayreuth
REFRESH-INTERVAL;VALUE=DURATION:PT1H
X-Robots-Tag:noindex
X-PUBLISHED-TTL:PT1H
BEGIN:VTIMEZONE
TZID:Europe/Berlin
BEGIN:DAYLIGHT
TZOFFSETFROM:+0100
TZOFFSETTO:+0200
TZNAME:CEST
DTSTART:20210328T010000
END:DAYLIGHT
BEGIN:STANDARD
TZOFFSETFROM:+0200
TZOFFSETTO:+0100
TZNAME:CET
DTSTART:20211031T010000
END:STANDARD
END:VTIMEZONE
BEGIN:VEVENT
DTSTART;TZID=Europe/Berlin:20211006T070000
DTEND;TZID=Europe/Berlin:20211006T090000
DTSTAMP:20260424T112808
CREATED:20210830T112242Z
LAST-MODIFIED:20210921T032509Z
UID:10004533-1633503600-1633510800@www.khg-in-bayreuth.de
SUMMARY:Ökum. Frühstück für Frühstarter // Ecumenical breakfast for early birds
DESCRIPTION:Gerade angekommen – der Kühlschrank ist (noch) leer. Dann seid ihr beim Frühstück für Frühstarter genau richtig!\nIhr habt die Möglichkeit ein reichhaltiges Frühstück in der Zeit von 07:00-09:00 Uhr zu erhalten. Kommt und geht wann ihr wollt. Vor allem für Erstsemester/Studierende\, die einen Vorkurs besuchen\, ist es eine super Möglichkeit in den Tag zu starten und andere Studierende kennenzulernen. \nOrt: KHG\n————————————————————————————————————————————–\nJust arrived – the fridge is (still) empty. Let’s go to our breakfast for early birds!\nBetween 7 to 9 am you can have an extensive breakfast. Come and go whenever you want. It’s a great opportunity for freshmen\, who participate in the preliminary course\, to start the day and to get to know other students. \nLocation: KHG \n 
URL:https://www.khg-in-bayreuth.de/event/oekum-fruehstueck-fuer-fruehstarter-ecumenical-breakfast-for-early-birds/
LOCATION:KHG Bayreuth\, Emil-Warburg-Weg 17\, KHG Bayreuth\, 95447\, Deutschland
END:VEVENT
BEGIN:VEVENT
DTSTART;TZID=Europe/Berlin:20211006T194500
DTEND;TZID=Europe/Berlin:20211006T220000
DTSTAMP:20260424T112808
CREATED:20210928T202534Z
LAST-MODIFIED:20210928T202534Z
UID:10004574-1633549500-1633557600@www.khg-in-bayreuth.de
SUMMARY:Gospelchor // Gospel Choir
DESCRIPTION:Unser ökumenischer “Gospelchor Bayreuth” probt wieder. Kommt gerne vorbei! \nOur ecumenical “Gospel Choir Bayreuth” is rehearsing again. Come and join them!
URL:https://www.khg-in-bayreuth.de/event/gospelchor-gospel-choir-2/2021-10-06/
LOCATION:KHG Bayreuth\, Emil-Warburg-Weg 17\, KHG Bayreuth\, 95447\, Deutschland
END:VEVENT
END:VCALENDAR