BEGIN:VCALENDAR
VERSION:2.0
PRODID:-//KHG Bayreuth - ECPv6.15.3//NONSGML v1.0//EN
CALSCALE:GREGORIAN
METHOD:PUBLISH
X-WR-CALNAME:KHG Bayreuth
X-ORIGINAL-URL:https://www.khg-in-bayreuth.de
X-WR-CALDESC:Veranstaltungen für KHG Bayreuth
REFRESH-INTERVAL;VALUE=DURATION:PT1H
X-Robots-Tag:noindex
X-PUBLISHED-TTL:PT1H
BEGIN:VTIMEZONE
TZID:Europe/Berlin
BEGIN:DAYLIGHT
TZOFFSETFROM:+0100
TZOFFSETTO:+0200
TZNAME:CEST
DTSTART:20210328T010000
END:DAYLIGHT
BEGIN:STANDARD
TZOFFSETFROM:+0200
TZOFFSETTO:+0100
TZNAME:CET
DTSTART:20211031T010000
END:STANDARD
END:VTIMEZONE
BEGIN:VTIMEZONE
TZID:UTC
BEGIN:STANDARD
TZOFFSETFROM:+0000
TZOFFSETTO:+0000
TZNAME:UTC
DTSTART:20210101T000000
END:STANDARD
END:VTIMEZONE
BEGIN:VEVENT
DTSTART;TZID=Europe/Berlin:20211018T070000
DTEND;TZID=Europe/Berlin:20211018T073000
DTSTAMP:20260424T112549
CREATED:20210929T102626Z
LAST-MODIFIED:20211017T002244Z
UID:10004610-1634540400-1634542200@www.khg-in-bayreuth.de
SUMMARY:Frühschicht mit Frühstück // Morning prayer with breakfast
DESCRIPTION:Zweiwöchentlich am Montag treffen wir uns während der Vorlesungszeit um 07:00 Uhr zu einer kurzen Morgenandacht mit anschl. Frühstück in der KHG. An den dazwischenliegenden Montagen seid Ihr sehr herzlich zum “Bet- und Breakfast” in der ESG eingeladen!\n____________________________________________________________________________________________\nEvery second week on Monday during the lecture period we meet at 07:00 for a short morning devotion followed by breakfast in the KHG. On the Mondays in between\, you are very welcome to join the “Prayer and Breakfast” at the ESG!
URL:https://www.khg-in-bayreuth.de/event/oekumenisches-morgengebet-anschl-fruehstueck-ecumenical-morning-prayer-followed-by-breakfast/2021-10-18/
LOCATION:KHG Bayreuth\, Emil-Warburg-Weg 17\, KHG Bayreuth\, 95447\, Deutschland
END:VEVENT
BEGIN:VEVENT
DTSTART;TZID=UTC:20211018T170000
DTEND;TZID=UTC:20211018T190000
DTSTAMP:20260424T112549
CREATED:20190228T173552Z
LAST-MODIFIED:20190228T173552Z
UID:10003898-1634576400-1634583600@www.khg-in-bayreuth.de
SUMMARY:Bibelteilen // sharing the bible
DESCRIPTION:– English version below – \nNach der Methode des “Bibelteilens in sieben Schritten” bringen wir biblische Texte zusammen mit eigenen Lebenserfahrungen\, Fragen und Zweifeln. So begeben wir uns gemeinsam auf die Suche: Was ist jetzt “dran” für mich/ für uns? Wie kann ich das\, was ich denke\, fühle und erlebe\, anhand der biblischen Überlieferung deuten? Was ist jetzt zu tun?\nHerzliche Einladung an alle Gläubigen\, Agnostiker\, Atheisten\, Sinnsucher/-innen und Leute\, die etwas bewegen wollen! \nJeden Montag um 17.00 Uhr in der KHG (Frühstücksecke im Untergeschoss – ganz hinten). \n– English version – \nFollowing the “sharing the bible in seven steps” method\, we combine biblical texts with personal experiences\, doubts and questions. Thus we engage on a shared quest: What is “due” for me/ for us now? How can I interpret my own reality in the light of the gospel? \nEveryone’s invited to share\, regardless of culture or religon. \nEvery Monday at 5 pm in the KHG (breakfast table in the basement – at the rear).
URL:https://www.khg-in-bayreuth.de/event/bibelteilen-sharing-the-bible-22/2021-10-18/
END:VEVENT
BEGIN:VEVENT
DTSTART;TZID=Europe/Berlin:20211018T190000
DTEND;TZID=Europe/Berlin:20211018T220000
DTSTAMP:20260424T112549
CREATED:20211017T003704Z
LAST-MODIFIED:20211017T004211Z
UID:10004624-1634583600-1634594400@www.khg-in-bayreuth.de
SUMMARY:Campusabend mit KHG-Ausklang // Campus evening with KHG finish
DESCRIPTION:Das Studierendenparlament der Uni Bayreuth lädt alle neuen Studierenden ein\, auf einem “Markt der Möglichkeiten” das breite Angebot an Gruppen und Einrichtungen auf dem Campus kennenzulernen. Auch die KHG ist dabei\, ebenso die ESG\, unser ökumenischer Gospelchor\, der Swahili-Chor und unsere Theatergruppe “Die Schwarzen Schafe”. Die KHG-Bar ist während des Abends geöffnet – falls Ihr eine Pause braucht\, kommt gerne auf ein Bier oder eine Apfelschorle vorbei! \n\nThe students’ parliament invites all new students to meet a broad range of university groups on campus. The KHG will be there\, as well as the ESG\, our ecumenical Gospel Choir\, the Suahili Choir and our theatre group “The Black Sheep”. The KHG bar will be open during the evening – so\, if you need a break\, come over for a beer or soft drink!
URL:https://www.khg-in-bayreuth.de/event/campusabend-mit-khg-ausklang-campus-evening-with-khg-finish/
LOCATION:KHG Bayreuth\, Emil-Warburg-Weg 17\, KHG Bayreuth\, 95447\, Deutschland
END:VEVENT
END:VCALENDAR