BEGIN:VCALENDAR
VERSION:2.0
PRODID:-//KHG Bayreuth - ECPv6.15.3//NONSGML v1.0//EN
CALSCALE:GREGORIAN
METHOD:PUBLISH
X-ORIGINAL-URL:https://www.khg-in-bayreuth.de
X-WR-CALDESC:Veranstaltungen für KHG Bayreuth
REFRESH-INTERVAL;VALUE=DURATION:PT1H
X-Robots-Tag:noindex
X-PUBLISHED-TTL:PT1H
BEGIN:VTIMEZONE
TZID:Europe/Berlin
BEGIN:DAYLIGHT
TZOFFSETFROM:+0100
TZOFFSETTO:+0200
TZNAME:CEST
DTSTART:20210328T010000
END:DAYLIGHT
BEGIN:STANDARD
TZOFFSETFROM:+0200
TZOFFSETTO:+0100
TZNAME:CET
DTSTART:20211031T010000
END:STANDARD
END:VTIMEZONE
BEGIN:VEVENT
DTSTART;TZID=Europe/Berlin:20211019T200000
DTEND;TZID=Europe/Berlin:20211019T220000
DTSTAMP:20260424T112931
CREATED:20210823T093931Z
LAST-MODIFIED:20211017T014604Z
UID:10004527-1634673600-1634680800@www.khg-in-bayreuth.de
SUMMARY:Spontanabend mit Biertasting // Spontaneous evening with beer tasting
DESCRIPTION:Zum Semesterbeginn laden wir herzlich alle neuen und alten Studierenden und Hochschulmitarbeiter*innen zu einem gemütlichen Abend in die KHG ein. Bitte bringt euer Lieblingsbier mit. Wir wollen gemeinsam Biere verkosten und darüber ins Gespräch kommen. Außerdem gibt es  die Möglichkeit\, Spiele zu spielen oder einfach zu quatschen … \nNatürlich seid Ihr auch herzlich willkommen\, wenn Ihr kein Bier trinkt! 😉 \n\nEnglish version: \nAt the beginning of the semester\, we cordially invite all new and old students and university staff to a cozy evening in the KHG. Please bring your favorite beer. We want to taste beers together and talk about them. Apart from that\, you can play games or just chat … \nOf course you’re also welcome if you don’t drink beer! 😉
URL:https://www.khg-in-bayreuth.de/event/brauereifuehrung-oder-biertasting-brewery-tour-or-beer-tasting/
LOCATION:KHG Bayreuth\, Emil-Warburg-Weg 17\, KHG Bayreuth\, 95447\, Deutschland
END:VEVENT
END:VCALENDAR