BEGIN:VCALENDAR
VERSION:2.0
PRODID:-//KHG Bayreuth - ECPv6.15.3//NONSGML v1.0//EN
CALSCALE:GREGORIAN
METHOD:PUBLISH
X-WR-CALNAME:KHG Bayreuth
X-ORIGINAL-URL:https://www.khg-in-bayreuth.de
X-WR-CALDESC:Veranstaltungen für KHG Bayreuth
REFRESH-INTERVAL;VALUE=DURATION:PT1H
X-Robots-Tag:noindex
X-PUBLISHED-TTL:PT1H
BEGIN:VTIMEZONE
TZID:Europe/Berlin
BEGIN:DAYLIGHT
TZOFFSETFROM:+0100
TZOFFSETTO:+0200
TZNAME:CEST
DTSTART:20210328T010000
END:DAYLIGHT
BEGIN:STANDARD
TZOFFSETFROM:+0200
TZOFFSETTO:+0100
TZNAME:CET
DTSTART:20211031T010000
END:STANDARD
END:VTIMEZONE
BEGIN:VEVENT
DTSTART;TZID=Europe/Berlin:20211023T100000
DTEND;TZID=Europe/Berlin:20211023T200000
DTSTAMP:20260424T112544
CREATED:20210823T094223Z
LAST-MODIFIED:20211014T182622Z
UID:10004528-1634983200-1635019200@www.khg-in-bayreuth.de
SUMMARY:Begrüßungstag (nicht nur) für Erstsemester//Welcome day (not only) for first-year students
DESCRIPTION:Herzliche Einladung an alle Erstsemester zum Kennenlerntag der KHG und ESG am Samstag\, den 23.10.2021! \nDabei wollen euch die KHG (Katholische Hochschulgemeinde) und die ESG (Evangelische Studierendengemeinde) die Möglichkeit geben\, erste Kontakte mit anderen Studierenden zu knüpfen\, Fragen zu stellen und Bayreuth etwas besser kennenzulernen. \nBeginn um 10 Uhr in der ESG (Richard-Wagner-Straße 24) \n– “Meet & Greet”\n– Kennenlernspiele\n– gemeinsames Kochen\n– Mittagessen\n– evtl. Stadtkirche mit Turmbesteigung (toller Blick über Bayreuth!)\n– Stadtralley\n– Kaffee und Kuchen in der KHG\n– Informationen für Studienanfänger von der Zentralen Studienberatung und ESN (Erasmus Student Network) \nUm 18 Uhr findet zum Abschluss des Kennenlerntages der ökumenische Semesteranfangsgottesdienst in der KHG-Kapelle statt. Anschließend ist die Bar geöffnet und es gibt Pizza! \nWenn ihr an diesem Kennenlerntag teilnehmen wollt\, meldet euch bitte bis zum 20.10. per Mail (khg@uni-bayreuth.de oder esg.bayreuth@elkb.de) oder in den Büros der KHG oder ESG an. \nTeilnehmerbeitrag: 7 € \nWir freuen uns über euer Kommen! \n\nEnglish version: \nA warm invitation to all first-semester students to the KHG and ESG get-to-know day on Saturday\, 23.10.2021! \nThe KHG (Katholische Hochschulgemeinde) and the ESG (Evangelische Studierendengemeinde) want to give you the opportunity to make first contacts with other students\, ask questions and get to know Bayreuth a little better. \nStart at 10 a.m. in the ESG (Richard-Wagner-Straße 24) \n– Meet & Greet\n– games to get to know each other\n– Cooking together\n– lunch\n– Possibly visit the town church and climb the tower (great view over Bayreuth!)\n– city rally\n– Coffee and cake in the KHG\n– Information for first-year students from the Central Student Advisory Service and ESN (Erasmus Student Network) \nAt 6 p.m.\, the ecumenical beginning-of-semester service will take place in the KHG chapel to conclude the get-to-know-you day. Afterwards\, the bar will be open and pizza will be served! \nIf you would like to take part in this day of getting to know each other\, please register by 20.10. by email (khg@uni-bayreuth.de or esg.bayreuth@elkb.de) or in the KHG or ESG offices. \nParticipation fee: 7 € \nWe are looking forward to seeing you!
URL:https://www.khg-in-bayreuth.de/event/begruessungstag-nicht-nur-fuer-erstsemester-welcome-day-not-only-for-first-year-students/
LOCATION:KHG Bayreuth\, Emil-Warburg-Weg 17\, KHG Bayreuth\, 95447\, Deutschland
END:VEVENT
BEGIN:VEVENT
DTSTART;TZID=Europe/Berlin:20211023T180000
DTEND;TZID=Europe/Berlin:20211023T190000
DTSTAMP:20260424T112544
CREATED:20211017T023648Z
LAST-MODIFIED:20211017T023648Z
UID:10004626-1635012000-1635015600@www.khg-in-bayreuth.de
SUMMARY:Ökum. Semesteranfangsgottesdienst // start-of-semester service
DESCRIPTION:“Werde laut” – unter diesem Motto feiern wir unseren traditionellen “Semango” (ökumenischer Semesteranfangsgottesdienst). Wie immer begleitet uns der Gospelchor mit wunderbaren Klängen. Im Anschluss gibt es Pizza\, Punsch\, Feuer und Stockbrot! \nAchtung: Da wir in der Kapelle den Mindestabstand nicht einhalten können\, beachtet bitte die 3G-Regel! \n\n“Become loud” – under this motto we celebrate our traditional “Semango” (ecumenical beginning of semester service). As always\, the Gospel Choir accompanies us with wonderful sounds. Afterwards we will have pizza\, punch\, fire and stick bread! \nAttention: As we cannot keep the minimum distance in the chapel\, please observe the 3G rule!
URL:https://www.khg-in-bayreuth.de/event/oekum-semesteranfangsgottesdienst-start-of-semester-service/
LOCATION:KHG Bayreuth\, Emil-Warburg-Weg 17\, KHG Bayreuth\, 95447\, Deutschland
END:VEVENT
END:VCALENDAR