BEGIN:VCALENDAR
VERSION:2.0
PRODID:-//KHG Bayreuth - ECPv6.15.3//NONSGML v1.0//EN
CALSCALE:GREGORIAN
METHOD:PUBLISH
X-WR-CALNAME:KHG Bayreuth
X-ORIGINAL-URL:https://www.khg-in-bayreuth.de
X-WR-CALDESC:Veranstaltungen für KHG Bayreuth
REFRESH-INTERVAL;VALUE=DURATION:PT1H
X-Robots-Tag:noindex
X-PUBLISHED-TTL:PT1H
BEGIN:VTIMEZONE
TZID:Europe/Berlin
BEGIN:DAYLIGHT
TZOFFSETFROM:+0100
TZOFFSETTO:+0200
TZNAME:CEST
DTSTART:20210328T010000
END:DAYLIGHT
BEGIN:STANDARD
TZOFFSETFROM:+0200
TZOFFSETTO:+0100
TZNAME:CET
DTSTART:20211031T010000
END:STANDARD
END:VTIMEZONE
BEGIN:VTIMEZONE
TZID:UTC
BEGIN:STANDARD
TZOFFSETFROM:+0000
TZOFFSETTO:+0000
TZNAME:UTC
DTSTART:20210101T000000
END:STANDARD
END:VTIMEZONE
BEGIN:VEVENT
DTSTART;TZID=Europe/Berlin:20211025T070000
DTEND;TZID=Europe/Berlin:20211025T080000
DTSTAMP:20260424T112552
CREATED:20211017T002233Z
LAST-MODIFIED:20211017T002233Z
UID:10004617-1635145200-1635148800@www.khg-in-bayreuth.de
SUMMARY:Bet & Breakfast (ESG)
DESCRIPTION:An den Montagen zwischen unseren KHG-Frühschichten seid Ihr herzlich zur ESG-Morgenandacht “Bet & Breakfast” in der ESG eingeladen: https://www.esg-bayreuth.de/glauben-leben/bet-breakfast \nOn Mondays between our KHG morning prayers you’re welcome to the ESG morning prayer “Bet & Breakfast” at the ESG: https://www.esg-bayreuth.de/glauben-leben/bet-breakfast
URL:https://www.khg-in-bayreuth.de/event/bet-breakfast-esg/2021-10-25/
LOCATION:ESG Bayreuth\, Richard-Wagner-Straße 24\, Bayreuth\, Deutschland
END:VEVENT
BEGIN:VEVENT
DTSTART;TZID=UTC:20211025T170000
DTEND;TZID=UTC:20211025T190000
DTSTAMP:20260424T112552
CREATED:20190228T173552Z
LAST-MODIFIED:20190228T173552Z
UID:10003899-1635181200-1635188400@www.khg-in-bayreuth.de
SUMMARY:Bibelteilen // sharing the bible
DESCRIPTION:– English version below – \nNach der Methode des “Bibelteilens in sieben Schritten” bringen wir biblische Texte zusammen mit eigenen Lebenserfahrungen\, Fragen und Zweifeln. So begeben wir uns gemeinsam auf die Suche: Was ist jetzt “dran” für mich/ für uns? Wie kann ich das\, was ich denke\, fühle und erlebe\, anhand der biblischen Überlieferung deuten? Was ist jetzt zu tun?\nHerzliche Einladung an alle Gläubigen\, Agnostiker\, Atheisten\, Sinnsucher/-innen und Leute\, die etwas bewegen wollen! \nJeden Montag um 17.00 Uhr in der KHG (Frühstücksecke im Untergeschoss – ganz hinten). \n– English version – \nFollowing the “sharing the bible in seven steps” method\, we combine biblical texts with personal experiences\, doubts and questions. Thus we engage on a shared quest: What is “due” for me/ for us now? How can I interpret my own reality in the light of the gospel? \nEveryone’s invited to share\, regardless of culture or religon. \nEvery Monday at 5 pm in the KHG (breakfast table in the basement – at the rear).
URL:https://www.khg-in-bayreuth.de/event/bibelteilen-sharing-the-bible-22/2021-10-25/
END:VEVENT
BEGIN:VEVENT
DTSTART;TZID=Europe/Berlin:20211025T180000
DTEND;TZID=Europe/Berlin:20211025T210000
DTSTAMP:20260424T112552
CREATED:20211017T024342Z
LAST-MODIFIED:20211017T024342Z
UID:10004627-1635184800-1635195600@www.khg-in-bayreuth.de
SUMMARY:Theatergruppe "Die schwarzen Schafe" // Theatre group
DESCRIPTION:Unsere Theatergruppe “Die schwarzen Schafe” trifft sich jeden Montag. Bis zum Ende des Semesters soll wieder ein Stück geprobt und inszeniert werden. Neueinsteiger:innen willkommen! \n\nOur theatre group “The Black Sheep” meets every Monday. We plan to rehearse and stage another play by the end of the semester. New members are welcome!
URL:https://www.khg-in-bayreuth.de/event/theatergruppe-die-schwarzen-schafe-theatre-group-2/
LOCATION:KHG Bayreuth\, Emil-Warburg-Weg 17\, KHG Bayreuth\, 95447\, Deutschland
END:VEVENT
END:VCALENDAR