BEGIN:VCALENDAR
VERSION:2.0
PRODID:-//KHG Bayreuth - ECPv6.15.3//NONSGML v1.0//EN
CALSCALE:GREGORIAN
METHOD:PUBLISH
X-WR-CALNAME:KHG Bayreuth
X-ORIGINAL-URL:https://www.khg-in-bayreuth.de
X-WR-CALDESC:Veranstaltungen für KHG Bayreuth
REFRESH-INTERVAL;VALUE=DURATION:PT1H
X-Robots-Tag:noindex
X-PUBLISHED-TTL:PT1H
BEGIN:VTIMEZONE
TZID:Europe/Berlin
BEGIN:DAYLIGHT
TZOFFSETFROM:+0100
TZOFFSETTO:+0200
TZNAME:CEST
DTSTART:20210328T010000
END:DAYLIGHT
BEGIN:STANDARD
TZOFFSETFROM:+0200
TZOFFSETTO:+0100
TZNAME:CET
DTSTART:20211031T010000
END:STANDARD
END:VTIMEZONE
BEGIN:VEVENT
DTSTART;TZID=Europe/Berlin:20211102T200000
DTEND;TZID=Europe/Berlin:20211102T230000
DTSTAMP:20260424T095717
CREATED:20210915T111251Z
LAST-MODIFIED:20211029T090322Z
UID:10004535-1635883200-1635894000@www.khg-in-bayreuth.de
SUMMARY:Italienischer Abend //Italian evening
DESCRIPTION:Ciao und herzlich willkommen zum italienischen Abend!\nEs erwarten euch ein Vier-Gänge-Menü mit allerhand italienischer Köstlichkeiten\, spannende Vorträge\, lustige Spiele und vieles mehr!\nDa der Platz leider auf 40 Personen begrenzt ist\, müssen wir euch bitten\, sich kurz über folgenden Link anzumelden: https://forms.gle/JeYghxNuDMQLdjDw7\nVoraussetzung für die Teilnahme ist ein gültiger 3G Nachweis. Zudem gibt es eine Teilnahmegebühr von 5€\, die am Dienstag in bar zu entrichten ist.\nWir freuen uns sehr auf euch alle! \n\nCiao and welcome to the Italian evening!\nYou can expect a four-course menu with all kinds of Italian delicacies\, interesting presentations\, fun games and much more!\nAs space is unfortunately limited to 40 people\, we have to ask you to register briefly via the following link: https://forms.gle/JeYghxNuDMQLdjDw7\nA valid 3G certificate is required for participation. There is also a participation fee of 5€\, which has to be paid in cash on Tuesday.\nWe are very much looking forward to seeing you all!
URL:https://www.khg-in-bayreuth.de/event/italienischer-abend-italian-evening/
LOCATION:KHG Bayreuth\, Emil-Warburg-Weg 17\, KHG Bayreuth\, 95447\, Deutschland
END:VEVENT
END:VCALENDAR