BEGIN:VCALENDAR
VERSION:2.0
PRODID:-//KHG Bayreuth - ECPv6.15.3//NONSGML v1.0//EN
CALSCALE:GREGORIAN
METHOD:PUBLISH
X-WR-CALNAME:KHG Bayreuth
X-ORIGINAL-URL:https://www.khg-in-bayreuth.de
X-WR-CALDESC:Veranstaltungen für KHG Bayreuth
REFRESH-INTERVAL;VALUE=DURATION:PT1H
X-Robots-Tag:noindex
X-PUBLISHED-TTL:PT1H
BEGIN:VTIMEZONE
TZID:Europe/Berlin
BEGIN:DAYLIGHT
TZOFFSETFROM:+0100
TZOFFSETTO:+0200
TZNAME:CEST
DTSTART:20210328T010000
END:DAYLIGHT
BEGIN:STANDARD
TZOFFSETFROM:+0200
TZOFFSETTO:+0100
TZNAME:CET
DTSTART:20211031T010000
END:STANDARD
END:VTIMEZONE
BEGIN:VEVENT
DTSTART;TZID=Europe/Berlin:20211109T190000
DTEND;TZID=Europe/Berlin:20211109T220000
DTSTAMP:20260424T100746
CREATED:20211025T093847Z
LAST-MODIFIED:20211029T205830Z
UID:10004656-1636484400-1636495200@www.khg-in-bayreuth.de
SUMMARY:Miteinander leben. Miteinander reden. Von Toleranz\, Antisemitismus und Verantwortung gestern und heute
DESCRIPTION:Kooperationsveranstaltung\, Ort: Evangelisches Zentrum Bayreuth\, Großer Saal\, Richard-Wagner-Str. 24\, 95444 Bayreuth \n\n\n„Miteinander leben\, miteinander reden. Von Toleranz\, Antisemitismus und Verantwortung gestern und heute“: Der Abend versteht sich als ein Plädoyer für eine offene\, gesprächsbereite Gesellschaft\, gerade auch mit Blick darauf\, wie Verschwörungsideologien das Miteinander gefährden können. \nDrei Impulsreferate spannen den Bogen von der Geschichte in die Gegenwart: So beleuchtet der Historiker Dr. Marcus Mühlnikel „Phänomene der Ausgrenzung. Schlaglichter aus dem Gedenkjahr 1700 Jahre jüdisches Leben in Deutschland“. Die Soziologin und Illustratorin Dr. Britta Wagner zeigt ihre graphische Zugangsweise unter dem Motto „Auf den Punkt gebracht. Verschwörungsmythen – und wie wir ihnen begegnen können“\, und Martin Becher\, Leiter der Projektstelle gegen Rechtsextremismus Bad Alexandersbad\, legt dar: „Warum Ausgrenzung allen weh tut. Für eine inklusive Gesellschaft“. Musikalisch umrahmt wird der Abend von SchülerInnen des Markgräfin-Wilhelmine-Gymnasiums; die Veranstaltung ist zugleich Auftakt zu einem Projekt eines MWG-Oberstufenseminars und externen Partnern. \nDer Abend wird gefördert im Rahmen des Bundesprogramms „Demokratie leben! Aktiv gegen Rechtsextremismus\, Gewalt und Menschenfeindlichkeit.“ \n\n\n\n\n\nReferenten\nDr. Britta Wagner\, Soziologin und Illustratorin\nDr. Marcus Mühlnikel\, Institut für Fränkische Landesgeschichte\nMartin Becher\, Leiter der Projektstelle gegen Rechtsextremismus\n\n\n\n\n\n\n\n\nKosten\nEintritt frei\, Spenden willkommen\n\n\n\n\n\n\n\n\nMitveranstalter\nKatholische Erwachsenenbildung Bayreuth\, Katholische Hochschulgemeinde\, Historischer Verein für Oberfranken\, Evangelische Studierendengemeinde\, Frankenbund Bayreuth\, Colloquium Historicum Wirsbergense\, Bayreuther Freundeskreis der Evang. Akademie Tutzing\, Markgräfin-Wilhelmine-Gymnasium Bayreuth\n\n\n\n\n\n\n\n\nHinweis\n3G-Regelung (siehe Hygienekonzept EBW)
URL:https://www.khg-in-bayreuth.de/event/vortragsabend-verschwoerungsmythen-und-antisemitismus-kooperationsveranstaltung-zum-9-november-mit-esg-erwachsenenbildung-u-a/
LOCATION:Ev. Gemeindehaus\, Richard-Wagner-Str. 24\, Bayreuth
END:VEVENT
END:VCALENDAR