BEGIN:VCALENDAR
VERSION:2.0
PRODID:-//KHG Bayreuth - ECPv6.15.3//NONSGML v1.0//EN
CALSCALE:GREGORIAN
METHOD:PUBLISH
X-ORIGINAL-URL:https://www.khg-in-bayreuth.de
X-WR-CALDESC:Veranstaltungen für KHG Bayreuth
REFRESH-INTERVAL;VALUE=DURATION:PT1H
X-Robots-Tag:noindex
X-PUBLISHED-TTL:PT1H
BEGIN:VTIMEZONE
TZID:Europe/Berlin
BEGIN:DAYLIGHT
TZOFFSETFROM:+0100
TZOFFSETTO:+0200
TZNAME:CEST
DTSTART:20210328T010000
END:DAYLIGHT
BEGIN:STANDARD
TZOFFSETFROM:+0200
TZOFFSETTO:+0100
TZNAME:CET
DTSTART:20211031T010000
END:STANDARD
END:VTIMEZONE
BEGIN:VEVENT
DTSTART;TZID=Europe/Berlin:20211123T200000
DTEND;TZID=Europe/Berlin:20211123T220000
DTSTAMP:20260424T100833
CREATED:20210915T111832Z
LAST-MODIFIED:20211108T225638Z
UID:10004537-1637697600-1637704800@www.khg-in-bayreuth.de
SUMMARY:Adventskranzbinden// Advent wreath making
DESCRIPTION:Adventskranzbinden// Advent wreath making\nKurz vor Beginn der Adventszeit wollen wir gemeinsam Adventskränze binden\, damit wir in der Adventszeit bei uns zu Hause die Adventskerzen entzünden können. Materialien werden zur Verfügung gestellt.\nAnmeldung bis 19.11. unter khg@uni-bayreuth.de; Unkostenbeitrag: 5\,00 Euro \n\nShortly before the start of Advent time we want to prepare advent wreaths together\, so we can light the candles of the Advent wreath at home. All materials are provided.\nRegistration until 19.11 under khg@uni-bayreuth.de; fee: 5\,00 Euro
URL:https://www.khg-in-bayreuth.de/event/adventskranzbinden-advent-wreath-making/
LOCATION:KHG Bayreuth\, Emil-Warburg-Weg 17\, KHG Bayreuth\, 95447\, Deutschland
END:VEVENT
END:VCALENDAR