BEGIN:VCALENDAR
VERSION:2.0
PRODID:-//KHG Bayreuth - ECPv6.15.3//NONSGML v1.0//EN
CALSCALE:GREGORIAN
METHOD:PUBLISH
X-ORIGINAL-URL:https://www.khg-in-bayreuth.de
X-WR-CALDESC:Veranstaltungen für KHG Bayreuth
REFRESH-INTERVAL;VALUE=DURATION:PT1H
X-Robots-Tag:noindex
X-PUBLISHED-TTL:PT1H
BEGIN:VTIMEZONE
TZID:Europe/Berlin
BEGIN:DAYLIGHT
TZOFFSETFROM:+0100
TZOFFSETTO:+0200
TZNAME:CEST
DTSTART:20210328T010000
END:DAYLIGHT
BEGIN:STANDARD
TZOFFSETFROM:+0200
TZOFFSETTO:+0100
TZNAME:CET
DTSTART:20211031T010000
END:STANDARD
END:VTIMEZONE
BEGIN:VEVENT
DTSTART;TZID=Europe/Berlin:20211125T133000
DTEND;TZID=Europe/Berlin:20211125T150000
DTSTAMP:20260424T100830
CREATED:20211022T082546Z
LAST-MODIFIED:20211025T175742Z
UID:10004638-1637847000-1637852400@www.khg-in-bayreuth.de
SUMMARY:International Bible group
DESCRIPTION:The Bible unites all Christians – so we’re going to share it ecumenically.  \nWe’re going to use the method of “bible sharing”: reading a short text and meditating on it. What has it to say for me\, for my life\, but also for us as a community? \nThe group will take place alternately at KHG and ESG. We’ll start at KHG the 28th of October 2021\, 13.30 hrs. The language will be English.
URL:https://www.khg-in-bayreuth.de/event/international-bible-group/2021-11-25/
LOCATION:KHG Bayreuth\, Emil-Warburg-Weg 17\, KHG Bayreuth\, 95447\, Deutschland
END:VEVENT
BEGIN:VEVENT
DTSTART;TZID=Europe/Berlin:20211125T150000
DTEND;TZID=Europe/Berlin:20211125T180000
DTSTAMP:20260424T100830
CREATED:20210929T100320Z
LAST-MODIFIED:20210929T101218Z
UID:10004600-1637852400-1637863200@www.khg-in-bayreuth.de
SUMMARY:"KHG improv theater cafè"
DESCRIPTION:– Donnerstags\, wöchentlich:\n  15:00 – Warm-up und\n               Theaterspiele\n  16:20 – offenes Café und\n               Spontane Aufführungen \n– Hauptsprache: Englisch\n  (und Deutsch) \nWir kümmern uns um die 3G-Regel\, also bitte beim ersten Mal einen Impfnachweis oder eine Alternative mitbringen.\nJeder kann einfach nur kommen\, zuschauen\, einen Kaffee oder Tee trinken. \n____________________________________________________________________________________________________ \n– Thursdays\, weekly:\n  15:00 – Warm-up and\n               Theater Games\n  16:20 – open Café and\n               Spontaneous Performances \n– Main language: English\n  (and German) \nLet’s take care of the 3G Rule\, so please bring a proof of vaccination\, or an alternative\, your first time.\nAnybody can just come join\, watch\, have some coffee or tea.
URL:https://www.khg-in-bayreuth.de/event/khg-improv-theater-cafe/2021-11-25/
LOCATION:KHG Bayreuth\, Emil-Warburg-Weg 17\, KHG Bayreuth\, 95447\, Deutschland
END:VEVENT
BEGIN:VEVENT
DTSTART;TZID=Europe/Berlin:20211125T201500
DTEND;TZID=Europe/Berlin:20211125T230000
DTSTAMP:20260424T100830
CREATED:20210928T202126Z
LAST-MODIFIED:20210928T202126Z
UID:10004561-1637871300-1637881200@www.khg-in-bayreuth.de
SUMMARY:Swahili Chor Bayreuth // Suahili Choir Bayreuth
DESCRIPTION:Unser “Swahili Chor Bayreuth” probt wieder! Neue Sänger:innen sind jederzeit herzlich willkommen. \nOur “Suahili Choir Bayreuth” is rehearsing again. New singers are always welcome!
URL:https://www.khg-in-bayreuth.de/event/swahili-chor-bayreuth-suahili-choir-bayreuth/2021-11-25/
LOCATION:KHG Bayreuth\, Emil-Warburg-Weg 17\, KHG Bayreuth\, 95447\, Deutschland
END:VEVENT
END:VCALENDAR